Workbook
Name Bankkonto_in: 'Behind the scenes (RÖR EJ)'!$C$3:$C$12
Name Bankkonto_ut: 'Behind the scenes (RÖR EJ)'!$D$3:$D$10
Name Beskriv_bankkonto_in: 'Behind the scenes (RÖR EJ)'!$C$15:$C$24
Name Beskriv_bankkonto_ut: 'Behind the scenes (RÖR EJ)'!$D$15:$D$22
Name Beskriv_handkassa_in: 'Behind the scenes (RÖR EJ)'!$E$15:$E$25
Name Beskriv_handkassa_ut: 'Behind the scenes (RÖR EJ)'!$F$15:$F$23
Name Beskriv_insättning: 'Behind the scenes (RÖR EJ)'!$G$15
Name Beskriv_uttag: 'Behind the scenes (RÖR EJ)'!$H$15
Name Handkassa_in: 'Behind the scenes (RÖR EJ)'!$E$3:$E$13
Name Handkassa_ut: 'Behind the scenes (RÖR EJ)'!$F$3:$F$11
Name Insättning: 'Behind the scenes (RÖR EJ)'!$G$3
Name Uttag: 'Behind the scenes (RÖR EJ)'!$H$3

Sheet GUIDER
E2: GUIDER & FAQ
E58: TIPS! Det finns 6 olika typer av intäkter och utgifter som ni kan välja mellan. Varje typ av intäkt och utgift har sedan ett par kategorier som kan väljas tillsammans med de. Tryck nedan för beskrivningar!
E62: VÄLJ TYP AV INTÄKT/UTGIFT --> --> | I62: Beskriv_bankkonto_in
E64: {=IF(ISBLANK(I62),"OBS: Välj ett alternativ i den vita rutan ovan!",INDIRECT(I62))} -> Bidrag från Sveriges Elevkårer = intäkt i form av det årliga bidraget från Sveriges Elevkårer
E65: Bidrag från skolan = bidrag som ni får från skolan
E66: Bidrag från kommun/region = bidrag som ni får från kommunen eller regionen
E67: Övriga bidrag = bidrag från andra än Sveriges Elevkårer, skolan eller kommun/region
E68: Medlemsavgift = intäkter från eventuella medlemsavgifter
E69: Bildning = intäkter från bildningsarrangemang
E70: Event = intäkter från event, exempelvis biljettförsäljning
E71: Lobbying = intäkter från lobbyingarrangemang
E72: Service = intäkter från service, exempelvis fikaförsäljning
E73: Övrigt = övriga intäkter

Sheet GRUNDUPPGIFTER
E2: GRUNDUPPGIFTER
E7: INFORMATION OM ELEVKÅREN:
E10: Elevkår
E12: Organisationsnummer
E14: Räkenskapsår
E16: Ekonomiansvarig
E20: INFORMATION OM BANKSTATUS:
F23: Ingående banksaldo
F25: Ingående handkassa
F27: Ingående presentkort (outnyttjat saldo)
F29: Ingående övriga tillgångar
F31: Ingående skulder
E33: Utgående saldon och skulder fylls i på bladet BOKSLUT när räkenskapsåret är slut.
E35: FÖREGÅENDE ÅR (frivilligt – för jämförelse i bokslutet):
F38: Förra årets intäkter
F40: Förra årets kostnader
E42: Förra årets utgående saldon (frivilligt) – hämtas från förra årets bokslut och används för att kontrollera årets ingående saldon:
F44: Förra årets utgående banksaldo
F46: Förra årets utgående handkassa
F48: Förra årets utgående presentkort
F50: Förra årets utgående övriga tillgångar
F52: Förra årets utgående skulder

Sheet BOKFÖRING
E1: INTÄKT/UTGIFT | F1: KATEGORI | G1: BESKRIVNING | H1: DATUM | I1: V-NR | J1: BELOPP | K1: KVITTO | L1: STATUS | M1: SALDO BANK | N1: SALDO KASSA | O1: SALDO PRESENTKORT
I2: 1 | L2: {=IF(ISBLANK(Tabell1[[#This Row],[INTÄKT/UTGIFT]]),IF(IFERROR(COUNTIF(INDEX(Tabell1[INTÄKT/UTGIFT],ROW()-ROW(Tabell1[#Headers])+1):INDEX(Tabell1[INTÄKT/UTGIFT],ROWS(Tabell1[INTÄKT/UTGIFT])),"?*"),0)>0,"⚠ Tom rad – V-nr hoppas över",""),IF(ISBLANK(Tabell1[[#This Row],[KATEGORI]]),"Fyll i kategori",IF(ISBLANK(Tabell1[[#This Row],[DATUM]]),"Fyll i datum",IF(ISBLANK(Tabell1[[#This Row],[BELOPP]]),"Fyll i belopp",IF(ISBLANK(Tabell1[[#This Row],[KVITTO]]),"Lägg in kvittot!",IF(ISERROR(MATCH(Tabell1[[#This Row],[KATEGORI]],INDEX('Behind the scenes (RÖR EJ)'!$C$3:$H$13,0,MATCH(Tabell1[[#This Row],[INTÄKT/UTGIFT]],'Behind the scenes (RÖR EJ)'!$C$2:$H$2,0)),0)),"FEL i intäkt/utgift!",IF(NOT(ISNUMBER(Tabell1[[#This Row],[DATUM]])),"FEL: ogiltigt datum",IF(AND(ISNUMBER('Behind the scenes (RÖR EJ)'!$K$3),ISNUMBER('Behind the scenes (RÖR EJ)'!$K$4),OR(Tabell1[[#This Row],[DATUM]]<'Behind the scenes (RÖR EJ)'!$K$3,Tabell1[[#This Row],[DATUM]]>'Behind the scenes (RÖR EJ)'!$K$4)),"FEL: datum utanför räkenskapsåret",IF(NOT(ISNUMBER(Tabell1[[#This Row],[BELOPP]])),"FEL: belopp måste vara ett tal",IF(Tabell1[[#This Row],[BELOPP]]<=0,"FEL: belopp måste vara större än 0",IF(ISBLANK(Tabell1[[#This Row],[V-NR]]),"FEL: V-nr saknas",IF(COUNTIF(Tabell1[V-NR],Tabell1[[#This Row],[V-NR]])>1,"FEL: dubblett av V-nr",IF(N(Tabell1[[#This Row],[SALDO BANK]])<0,"FEL: banksaldot blir negativt här",IF(N(Tabell1[[#This Row],[SALDO KASSA]])<0,"FEL: handkassan blir negativ här",IF(N(Tabell1[[#This Row],[SALDO PRESENTKORT]])<0,"FEL: presentkortssaldot blir negativt här","KLAR")))))))))))))))} | M2: {=IF(AND(ISNUMBER(Tabell1[[#This Row],[DATUM]]),OR(Tabell1[[#This Row],[INTÄKT/UTGIFT]]="Bankkonto_in",Tabell1[[#This Row],[INTÄKT/UTGIFT]]="Bankkonto_ut",Tabell1[[#This Row],[INTÄKT/UTGIFT]]="Insättning",Tabell1[[#This Row],[INTÄKT/UTGIFT]]="Uttag")),GRUNDUPPGIFTER!$H$23+SUMPRODUCT((Tabell1[DATUM]<Tabell1[[#This Row],[DATUM]])+(Tabell1[DATUM]=Tabell1[[#This Row],[DATUM]])*(Tabell1[V-NR]<=Tabell1[[#This Row],[V-NR]]),(Tabell1[INTÄKT/UTGIFT]="Bankkonto_in")+(Tabell1[INTÄKT/UTGIFT]="Insättning")-(Tabell1[INTÄKT/UTGIFT]="Bankkonto_ut")-(Tabell1[INTÄKT/UTGIFT]="Uttag"),Tabell1[BELOPP]),"")} | N2: {=IF(AND(ISNUMBER(Tabell1[[#This Row],[DATUM]]),Tabell1[[#This Row],[KATEGORI]]<>"Presentkort",OR(Tabell1[[#This Row],[INTÄKT/UTGIFT]]="Handkassa_in",Tabell1[[#This Row],[INTÄKT/UTGIFT]]="Handkassa_ut",Tabell1[[#This Row],[INTÄKT/UTGIFT]]="Insättning",Tabell1[[#This Row],[INTÄKT/UTGIFT]]="Uttag")),GRUNDUPPGIFTER!$H$25+SUMPRODUCT((Tabell1[DATUM]<Tabell1[[#This Row],[DATUM]])+(Tabell1[DATUM]=Tabell1[[#This Row],[DATUM]])*(Tabell1[V-NR]<=Tabell1[[#This Row],[V-NR]]),((Tabell1[INTÄKT/UTGIFT]="Handkassa_in")-(Tabell1[INTÄKT/UTGIFT]="Handkassa_ut"))*(Tabell1[KATEGORI]<>"Presentkort")+(Tabell1[INTÄKT/UTGIFT]="Uttag")-(Tabell1[INTÄKT/UTGIFT]="Insättning"),Tabell1[BELOPP]),"")} | O2: {=IF(AND(ISNUMBER(Tabell1[[#This Row],[DATUM]]),Tabell1[[#This Row],[KATEGORI]]="Presentkort"),GRUNDUPPGIFTER!$H$27+SUMPRODUCT((Tabell1[DATUM]<Tabell1[[#This Row],[DATUM]])+(Tabell1[DATUM]=Tabell1[[#This Row],[DATUM]])*(Tabell1[V-NR]<=Tabell1[[#This Row],[V-NR]]),((Tabell1[INTÄKT/UTGIFT]="Handkassa_in")-(Tabell1[INTÄKT/UTGIFT]="Handkassa_ut"))*(Tabell1[KATEGORI]="Presentkort"),Tabell1[BELOPP]),"")}
I3: 2 | L3: {=IF(ISBLANK(Tabell1[[#This Row],[INTÄKT/UTGIFT]]),IF(IFERROR(COUNTIF(INDEX(Tabell1[INTÄKT/UTGIFT],ROW()-ROW(Tabell1[#Headers])+1):INDEX(Tabell1[INTÄKT/UTGIFT],ROWS(Tabell1[INTÄKT/UTGIFT])),"?*"),0)>0,"⚠ Tom rad – V-nr hoppas över",""),IF(ISBLANK(Tabell1[[#This Row],[KATEGORI]]),"Fyll i kategori",IF(ISBLANK(Tabell1[[#This Row],[DATUM]]),"Fyll i datum",IF(ISBLANK(Tabell1[[#This Row],[BELOPP]]),"Fyll i belopp",IF(ISBLANK(Tabell1[[#This Row],[KVITTO]]),"Lägg in kvittot!",IF(ISERROR(MATCH(Tabell1[[#This Row],[KATEGORI]],INDEX('Behind the scenes (RÖR EJ)'!$C$3:$H$13,0,MATCH(Tabell1[[#This Row],[INTÄKT/UTGIFT]],'Behind the scenes (RÖR EJ)'!$C$2:$H$2,0)),0)),"FEL i intäkt/utgift!",IF(NOT(ISNUMBER(Tabell1[[#This Row],[DATUM]])),"FEL: ogiltigt datum",IF(AND(ISNUMBER('Behind the scenes (RÖR EJ)'!$K$3),ISNUMBER('Behind the scenes (RÖR EJ)'!$K$4),OR(Tabell1[[#This Row],[DATUM]]<'Behind the scenes (RÖR EJ)'!$K$3,Tabell1[[#This Row],[DATUM]]>'Behind the scenes (RÖR EJ)'!$K$4)),"FEL: datum utanför räkenskapsåret",IF(NOT(ISNUMBER(Tabell1[[#This Row],[BELOPP]])),"FEL: belopp måste vara ett tal",IF(Tabell1[[#This Row],[BELOPP]]<=0,"FEL: belopp måste vara större än 0",IF(ISBLANK(Tabell1[[#This Row],[V-NR]]),"FEL: V-nr saknas",IF(COUNTIF(Tabell1[V-NR],Tabell1[[#This Row],[V-NR]])>1,"FEL: dubblett av V-nr",IF(N(Tabell1[[#This Row],[SALDO BANK]])<0,"FEL: banksaldot blir negativt här",IF(N(Tabell1[[#This Row],[SALDO KASSA]])<0,"FEL: handkassan blir negativ här",IF(N(Tabell1[[#This Row],[SALDO PRESENTKORT]])<0,"FEL: presentkortssaldot blir negativt här","KLAR")))))))))))))))} | M3: {=IF(AND(ISNUMBER(Tabell1[[#This Row],[DATUM]]),OR(Tabell1[[#This Row],[INTÄKT/UTGIFT]]="Bankkonto_in",Tabell1[[#This Row],[INTÄKT/UTGIFT]]="Bankkonto_ut",Tabell1[[#This Row],[INTÄKT/UTGIFT]]="Insättning",Tabell1[[#This Row],[INTÄKT/UTGIFT]]="Uttag")),GRUNDUPPGIFTER!$H$23+SUMPRODUCT((Tabell1[DATUM]<Tabell1[[#This Row],[DATUM]])+(Tabell1[DATUM]=Tabell1[[#This Row],[DATUM]])*(Tabell1[V-NR]<=Tabell1[[#This Row],[V-NR]]),(Tabell1[INTÄKT/UTGIFT]="Bankkonto_in")+(Tabell1[INTÄKT/UTGIFT]="Insättning")-(Tabell1[INTÄKT/UTGIFT]="Bankkonto_ut")-(Tabell1[INTÄKT/UTGIFT]="Uttag"),Tabell1[BELOPP]),"")} | N3: {=IF(AND(ISNUMBER(Tabell1[[#This Row],[DATUM]]),Tabell1[[#This Row],[KATEGORI]]<>"Presentkort",OR(Tabell1[[#This Row],[INTÄKT/UTGIFT]]="Handkassa_in",Tabell1[[#This Row],[INTÄKT/UTGIFT]]="Handkassa_ut",Tabell1[[#This Row],[INTÄKT/UTGIFT]]="Insättning",Tabell1[[#This Row],[INTÄKT/UTGIFT]]="Uttag")),GRUNDUPPGIFTER!$H$25+SUMPRODUCT((Tabell1[DATUM]<Tabell1[[#This Row],[DATUM]])+(Tabell1[DATUM]=Tabell1[[#This Row],[DATUM]])*(Tabell1[V-NR]<=Tabell1[[#This Row],[V-NR]]),((Tabell1[INTÄKT/UTGIFT]="Handkassa_in")-(Tabell1[INTÄKT/UTGIFT]="Handkassa_ut"))*(Tabell1[KATEGORI]<>"Presentkort")+(Tabell1[INTÄKT/UTGIFT]="Uttag")-(Tabell1[INTÄKT/UTGIFT]="Insättning"),Tabell1[BELOPP]),"")} | O3: {=IF(AND(ISNUMBER(Tabell1[[#This Row],[DATUM]]),Tabell1[[#This Row],[KATEGORI]]="Presentkort"),GRUNDUPPGIFTER!$H$27+SUMPRODUCT((Tabell1[DATUM]<Tabell1[[#This Row],[DATUM]])+(Tabell1[DATUM]=Tabell1[[#This Row],[DATUM]])*(Tabell1[V-NR]<=Tabell1[[#This Row],[V-NR]]),((Tabell1[INTÄKT/UTGIFT]="Handkassa_in")-(Tabell1[INTÄKT/UTGIFT]="Handkassa_ut"))*(Tabell1[KATEGORI]="Presentkort"),Tabell1[BELOPP]),"")}
I4: 3 | L4: {=IF(ISBLANK(Tabell1[[#This Row],[INTÄKT/UTGIFT]]),IF(IFERROR(COUNTIF(INDEX(Tabell1[INTÄKT/UTGIFT],ROW()-ROW(Tabell1[#Headers])+1):INDEX(Tabell1[INTÄKT/UTGIFT],ROWS(Tabell1[INTÄKT/UTGIFT])),"?*"),0)>0,"⚠ Tom rad – V-nr hoppas över",""),IF(ISBLANK(Tabell1[[#This Row],[KATEGORI]]),"Fyll i kategori",IF(ISBLANK(Tabell1[[#This Row],[DATUM]]),"Fyll i datum",IF(ISBLANK(Tabell1[[#This Row],[BELOPP]]),"Fyll i belopp",IF(ISBLANK(Tabell1[[#This Row],[KVITTO]]),"Lägg in kvittot!",IF(ISERROR(MATCH(Tabell1[[#This Row],[KATEGORI]],INDEX('Behind the scenes (RÖR EJ)'!$C$3:$H$13,0,MATCH(Tabell1[[#This Row],[INTÄKT/UTGIFT]],'Behind the scenes (RÖR EJ)'!$C$2:$H$2,0)),0)),"FEL i intäkt/utgift!",IF(NOT(ISNUMBER(Tabell1[[#This Row],[DATUM]])),"FEL: ogiltigt datum",IF(AND(ISNUMBER('Behind the scenes (RÖR EJ)'!$K$3),ISNUMBER('Behind the scenes (RÖR EJ)'!$K$4),OR(Tabell1[[#This Row],[DATUM]]<'Behind the scenes (RÖR EJ)'!$K$3,Tabell1[[#This Row],[DATUM]]>'Behind the scenes (RÖR EJ)'!$K$4)),"FEL: datum utanför räkenskapsåret",IF(NOT(ISNUMBER(Tabell1[[#This Row],[BELOPP]])),"FEL: belopp måste vara ett tal",IF(Tabell1[[#This Row],[BELOPP]]<=0,"FEL: belopp måste vara större än 0",IF(ISBLANK(Tabell1[[#This Row],[V-NR]]),"FEL: V-nr saknas",IF(COUNTIF(Tabell1[V-NR],Tabell1[[#This Row],[V-NR]])>1,"FEL: dubblett av V-nr",IF(N(Tabell1[[#This Row],[SALDO BANK]])<0,"FEL: banksaldot blir negativt här",IF(N(Tabell1[[#This Row],[SALDO KASSA]])<0,"FEL: handkassan blir negativ här",IF(N(Tabell1[[#This Row],[SALDO PRESENTKORT]])<0,"FEL: presentkortssaldot blir negativt här","KLAR")))))))))))))))} | M4: {=IF(AND(ISNUMBER(Tabell1[[#This Row],[DATUM]]),OR(Tabell1[[#This Row],[INTÄKT/UTGIFT]]="Bankkonto_in",Tabell1[[#This Row],[INTÄKT/UTGIFT]]="Bankkonto_ut",Tabell1[[#This Row],[INTÄKT/UTGIFT]]="Insättning",Tabell1[[#This Row],[INTÄKT/UTGIFT]]="Uttag")),GRUNDUPPGIFTER!$H$23+SUMPRODUCT((Tabell1[DATUM]<Tabell1[[#This Row],[DATUM]])+(Tabell1[DATUM]=Tabell1[[#This Row],[DATUM]])*(Tabell1[V-NR]<=Tabell1[[#This Row],[V-NR]]),(Tabell1[INTÄKT/UTGIFT]="Bankkonto_in")+(Tabell1[INTÄKT/UTGIFT]="Insättning")-(Tabell1[INTÄKT/UTGIFT]="Bankkonto_ut")-(Tabell1[INTÄKT/UTGIFT]="Uttag"),Tabell1[BELOPP]),"")} | N4: {=IF(AND(ISNUMBER(Tabell1[[#This Row],[DATUM]]),Tabell1[[#This Row],[KATEGORI]]<>"Presentkort",OR(Tabell1[[#This Row],[INTÄKT/UTGIFT]]="Handkassa_in",Tabell1[[#This Row],[INTÄKT/UTGIFT]]="Handkassa_ut",Tabell1[[#This Row],[INTÄKT/UTGIFT]]="Insättning",Tabell1[[#This Row],[INTÄKT/UTGIFT]]="Uttag")),GRUNDUPPGIFTER!$H$25+SUMPRODUCT((Tabell1[DATUM]<Tabell1[[#This Row],[DATUM]])+(Tabell1[DATUM]=Tabell1[[#This Row],[DATUM]])*(Tabell1[V-NR]<=Tabell1[[#This Row],[V-NR]]),((Tabell1[INTÄKT/UTGIFT]="Handkassa_in")-(Tabell1[INTÄKT/UTGIFT]="Handkassa_ut"))*(Tabell1[KATEGORI]<>"Presentkort")+(Tabell1[INTÄKT/UTGIFT]="Uttag")-(Tabell1[INTÄKT/UTGIFT]="Insättning"),Tabell1[BELOPP]),"")} | O4: {=IF(AND(ISNUMBER(Tabell1[[#This Row],[DATUM]]),Tabell1[[#This Row],[KATEGORI]]="Presentkort"),GRUNDUPPGIFTER!$H$27+SUMPRODUCT((Tabell1[DATUM]<Tabell1[[#This Row],[DATUM]])+(Tabell1[DATUM]=Tabell1[[#This Row],[DATUM]])*(Tabell1[V-NR]<=Tabell1[[#This Row],[V-NR]]),((Tabell1[INTÄKT/UTGIFT]="Handkassa_in")-(Tabell1[INTÄKT/UTGIFT]="Handkassa_ut"))*(Tabell1[KATEGORI]="Presentkort"),Tabell1[BELOPP]),"")}
I5: 4 | L5: {=IF(ISBLANK(Tabell1[[#This Row],[INTÄKT/UTGIFT]]),IF(IFERROR(COUNTIF(INDEX(Tabell1[INTÄKT/UTGIFT],ROW()-ROW(Tabell1[#Headers])+1):INDEX(Tabell1[INTÄKT/UTGIFT],ROWS(Tabell1[INTÄKT/UTGIFT])),"?*"),0)>0,"⚠ Tom rad – V-nr hoppas över",""),IF(ISBLANK(Tabell1[[#This Row],[KATEGORI]]),"Fyll i kategori",IF(ISBLANK(Tabell1[[#This Row],[DATUM]]),"Fyll i datum",IF(ISBLANK(Tabell1[[#This Row],[BELOPP]]),"Fyll i belopp",IF(ISBLANK(Tabell1[[#This Row],[KVITTO]]),"Lägg in kvittot!",IF(ISERROR(MATCH(Tabell1[[#This Row],[KATEGORI]],INDEX('Behind the scenes (RÖR EJ)'!$C$3:$H$13,0,MATCH(Tabell1[[#This Row],[INTÄKT/UTGIFT]],'Behind the scenes (RÖR EJ)'!$C$2:$H$2,0)),0)),"FEL i intäkt/utgift!",IF(NOT(ISNUMBER(Tabell1[[#This Row],[DATUM]])),"FEL: ogiltigt datum",IF(AND(ISNUMBER('Behind the scenes (RÖR EJ)'!$K$3),ISNUMBER('Behind the scenes (RÖR EJ)'!$K$4),OR(Tabell1[[#This Row],[DATUM]]<'Behind the scenes (RÖR EJ)'!$K$3,Tabell1[[#This Row],[DATUM]]>'Behind the scenes (RÖR EJ)'!$K$4)),"FEL: datum utanför räkenskapsåret",IF(NOT(ISNUMBER(Tabell1[[#This Row],[BELOPP]])),"FEL: belopp måste vara ett tal",IF(Tabell1[[#This Row],[BELOPP]]<=0,"FEL: belopp måste vara större än 0",IF(ISBLANK(Tabell1[[#This Row],[V-NR]]),"FEL: V-nr saknas",IF(COUNTIF(Tabell1[V-NR],Tabell1[[#This Row],[V-NR]])>1,"FEL: dubblett av V-nr",IF(N(Tabell1[[#This Row],[SALDO BANK]])<0,"FEL: banksaldot blir negativt här",IF(N(Tabell1[[#This Row],[SALDO KASSA]])<0,"FEL: handkassan blir negativ här",IF(N(Tabell1[[#This Row],[SALDO PRESENTKORT]])<0,"FEL: presentkortssaldot blir negativt här","KLAR")))))))))))))))} | M5: {=IF(AND(ISNUMBER(Tabell1[[#This Row],[DATUM]]),OR(Tabell1[[#This Row],[INTÄKT/UTGIFT]]="Bankkonto_in",Tabell1[[#This Row],[INTÄKT/UTGIFT]]="Bankkonto_ut",Tabell1[[#This Row],[INTÄKT/UTGIFT]]="Insättning",Tabell1[[#This Row],[INTÄKT/UTGIFT]]="Uttag")),GRUNDUPPGIFTER!$H$23+SUMPRODUCT((Tabell1[DATUM]<Tabell1[[#This Row],[DATUM]])+(Tabell1[DATUM]=Tabell1[[#This Row],[DATUM]])*(Tabell1[V-NR]<=Tabell1[[#This Row],[V-NR]]),(Tabell1[INTÄKT/UTGIFT]="Bankkonto_in")+(Tabell1[INTÄKT/UTGIFT]="Insättning")-(Tabell1[INTÄKT/UTGIFT]="Bankkonto_ut")-(Tabell1[INTÄKT/UTGIFT]="Uttag"),Tabell1[BELOPP]),"")} | N5: {=IF(AND(ISNUMBER(Tabell1[[#This Row],[DATUM]]),Tabell1[[#This Row],[KATEGORI]]<>"Presentkort",OR(Tabell1[[#This Row],[INTÄKT/UTGIFT]]="Handkassa_in",Tabell1[[#This Row],[INTÄKT/UTGIFT]]="Handkassa_ut",Tabell1[[#This Row],[INTÄKT/UTGIFT]]="Insättning",Tabell1[[#This Row],[INTÄKT/UTGIFT]]="Uttag")),GRUNDUPPGIFTER!$H$25+SUMPRODUCT((Tabell1[DATUM]<Tabell1[[#This Row],[DATUM]])+(Tabell1[DATUM]=Tabell1[[#This Row],[DATUM]])*(Tabell1[V-NR]<=Tabell1[[#This Row],[V-NR]]),((Tabell1[INTÄKT/UTGIFT]="Handkassa_in")-(Tabell1[INTÄKT/UTGIFT]="Handkassa_ut"))*(Tabell1[KATEGORI]<>"Presentkort")+(Tabell1[INTÄKT/UTGIFT]="Uttag")-(Tabell1[INTÄKT/UTGIFT]="Insättning"),Tabell1[BELOPP]),"")} | O5: {=IF(AND(ISNUMBER(Tabell1[[#This Row],[DATUM]]),Tabell1[[#This Row],[KATEGORI]]="Presentkort"),GRUNDUPPGIFTER!$H$27+SUMPRODUCT((Tabell1[DATUM]<Tabell1[[#This Row],[DATUM]])+(Tabell1[DATUM]=Tabell1[[#This Row],[DATUM]])*(Tabell1[V-NR]<=Tabell1[[#This Row],[V-NR]]),((Tabell1[INTÄKT/UTGIFT]="Handkassa_in")-(Tabell1[INTÄKT/UTGIFT]="Handkassa_ut"))*(Tabell1[KATEGORI]="Presentkort"),Tabell1[BELOPP]),"")}
I6: 5 | L6: {=IF(ISBLANK(Tabell1[[#This Row],[INTÄKT/UTGIFT]]),IF(IFERROR(COUNTIF(INDEX(Tabell1[INTÄKT/UTGIFT],ROW()-ROW(Tabell1[#Headers])+1):INDEX(Tabell1[INTÄKT/UTGIFT],ROWS(Tabell1[INTÄKT/UTGIFT])),"?*"),0)>0,"⚠ Tom rad – V-nr hoppas över",""),IF(ISBLANK(Tabell1[[#This Row],[KATEGORI]]),"Fyll i kategori",IF(ISBLANK(Tabell1[[#This Row],[DATUM]]),"Fyll i datum",IF(ISBLANK(Tabell1[[#This Row],[BELOPP]]),"Fyll i belopp",IF(ISBLANK(Tabell1[[#This Row],[KVITTO]]),"Lägg in kvittot!",IF(ISERROR(MATCH(Tabell1[[#This Row],[KATEGORI]],INDEX('Behind the scenes (RÖR EJ)'!$C$3:$H$13,0,MATCH(Tabell1[[#This Row],[INTÄKT/UTGIFT]],'Behind the scenes (RÖR EJ)'!$C$2:$H$2,0)),0)),"FEL i intäkt/utgift!",IF(NOT(ISNUMBER(Tabell1[[#This Row],[DATUM]])),"FEL: ogiltigt datum",IF(AND(ISNUMBER('Behind the scenes (RÖR EJ)'!$K$3),ISNUMBER('Behind the scenes (RÖR EJ)'!$K$4),OR(Tabell1[[#This Row],[DATUM]]<'Behind the scenes (RÖR EJ)'!$K$3,Tabell1[[#This Row],[DATUM]]>'Behind the scenes (RÖR EJ)'!$K$4)),"FEL: datum utanför räkenskapsåret",IF(NOT(ISNUMBER(Tabell1[[#This Row],[BELOPP]])),"FEL: belopp måste vara ett tal",IF(Tabell1[[#This Row],[BELOPP]]<=0,"FEL: belopp måste vara större än 0",IF(ISBLANK(Tabell1[[#This Row],[V-NR]]),"FEL: V-nr saknas",IF(COUNTIF(Tabell1[V-NR],Tabell1[[#This Row],[V-NR]])>1,"FEL: dubblett av V-nr",IF(N(Tabell1[[#This Row],[SALDO BANK]])<0,"FEL: banksaldot blir negativt här",IF(N(Tabell1[[#This Row],[SALDO KASSA]])<0,"FEL: handkassan blir negativ här",IF(N(Tabell1[[#This Row],[SALDO PRESENTKORT]])<0,"FEL: presentkortssaldot blir negativt här","KLAR")))))))))))))))} | M6: {=IF(AND(ISNUMBER(Tabell1[[#This Row],[DATUM]]),OR(Tabell1[[#This Row],[INTÄKT/UTGIFT]]="Bankkonto_in",Tabell1[[#This Row],[INTÄKT/UTGIFT]]="Bankkonto_ut",Tabell1[[#This Row],[INTÄKT/UTGIFT]]="Insättning",Tabell1[[#This Row],[INTÄKT/UTGIFT]]="Uttag")),GRUNDUPPGIFTER!$H$23+SUMPRODUCT((Tabell1[DATUM]<Tabell1[[#This Row],[DATUM]])+(Tabell1[DATUM]=Tabell1[[#This Row],[DATUM]])*(Tabell1[V-NR]<=Tabell1[[#This Row],[V-NR]]),(Tabell1[INTÄKT/UTGIFT]="Bankkonto_in")+(Tabell1[INTÄKT/UTGIFT]="Insättning")-(Tabell1[INTÄKT/UTGIFT]="Bankkonto_ut")-(Tabell1[INTÄKT/UTGIFT]="Uttag"),Tabell1[BELOPP]),"")} | N6: {=IF(AND(ISNUMBER(Tabell1[[#This Row],[DATUM]]),Tabell1[[#This Row],[KATEGORI]]<>"Presentkort",OR(Tabell1[[#This Row],[INTÄKT/UTGIFT]]="Handkassa_in",Tabell1[[#This Row],[INTÄKT/UTGIFT]]="Handkassa_ut",Tabell1[[#This Row],[INTÄKT/UTGIFT]]="Insättning",Tabell1[[#This Row],[INTÄKT/UTGIFT]]="Uttag")),GRUNDUPPGIFTER!$H$25+SUMPRODUCT((Tabell1[DATUM]<Tabell1[[#This Row],[DATUM]])+(Tabell1[DATUM]=Tabell1[[#This Row],[DATUM]])*(Tabell1[V-NR]<=Tabell1[[#This Row],[V-NR]]),((Tabell1[INTÄKT/UTGIFT]="Handkassa_in")-(Tabell1[INTÄKT/UTGIFT]="Handkassa_ut"))*(Tabell1[KATEGORI]<>"Presentkort")+(Tabell1[INTÄKT/UTGIFT]="Uttag")-(Tabell1[INTÄKT/UTGIFT]="Insättning"),Tabell1[BELOPP]),"")} | O6: {=IF(AND(ISNUMBER(Tabell1[[#This Row],[DATUM]]),Tabell1[[#This Row],[KATEGORI]]="Presentkort"),GRUNDUPPGIFTER!$H$27+SUMPRODUCT((Tabell1[DATUM]<Tabell1[[#This Row],[DATUM]])+(Tabell1[DATUM]=Tabell1[[#This Row],[DATUM]])*(Tabell1[V-NR]<=Tabell1[[#This Row],[V-NR]]),((Tabell1[INTÄKT/UTGIFT]="Handkassa_in")-(Tabell1[INTÄKT/UTGIFT]="Handkassa_ut"))*(Tabell1[KATEGORI]="Presentkort"),Tabell1[BELOPP]),"")}
I7: 6 | L7: {=IF(ISBLANK(Tabell1[[#This Row],[INTÄKT/UTGIFT]]),IF(IFERROR(COUNTIF(INDEX(Tabell1[INTÄKT/UTGIFT],ROW()-ROW(Tabell1[#Headers])+1):INDEX(Tabell1[INTÄKT/UTGIFT],ROWS(Tabell1[INTÄKT/UTGIFT])),"?*"),0)>0,"⚠ Tom rad – V-nr hoppas över",""),IF(ISBLANK(Tabell1[[#This Row],[KATEGORI]]),"Fyll i kategori",IF(ISBLANK(Tabell1[[#This Row],[DATUM]]),"Fyll i datum",IF(ISBLANK(Tabell1[[#This Row],[BELOPP]]),"Fyll i belopp",IF(ISBLANK(Tabell1[[#This Row],[KVITTO]]),"Lägg in kvittot!",IF(ISERROR(MATCH(Tabell1[[#This Row],[KATEGORI]],INDEX('Behind the scenes (RÖR EJ)'!$C$3:$H$13,0,MATCH(Tabell1[[#This Row],[INTÄKT/UTGIFT]],'Behind the scenes (RÖR EJ)'!$C$2:$H$2,0)),0)),"FEL i intäkt/utgift!",IF(NOT(ISNUMBER(Tabell1[[#This Row],[DATUM]])),"FEL: ogiltigt datum",IF(AND(ISNUMBER('Behind the scenes (RÖR EJ)'!$K$3),ISNUMBER('Behind the scenes (RÖR EJ)'!$K$4),OR(Tabell1[[#This Row],[DATUM]]<'Behind the scenes (RÖR EJ)'!$K$3,Tabell1[[#This Row],[DATUM]]>'Behind the scenes (RÖR EJ)'!$K$4)),"FEL: datum utanför räkenskapsåret",IF(NOT(ISNUMBER(Tabell1[[#This Row],[BELOPP]])),"FEL: belopp måste vara ett tal",IF(Tabell1[[#This Row],[BELOPP]]<=0,"FEL: belopp måste vara större än 0",IF(ISBLANK(Tabell1[[#This Row],[V-NR]]),"FEL: V-nr saknas",IF(COUNTIF(Tabell1[V-NR],Tabell1[[#This Row],[V-NR]])>1,"FEL: dubblett av V-nr",IF(N(Tabell1[[#This Row],[SALDO BANK]])<0,"FEL: banksaldot blir negativt här",IF(N(Tabell1[[#This Row],[SALDO KASSA]])<0,"FEL: handkassan blir negativ här",IF(N(Tabell1[[#This Row],[SALDO PRESENTKORT]])<0,"FEL: presentkortssaldot blir negativt här","KLAR")))))))))))))))} | M7: {=IF(AND(ISNUMBER(Tabell1[[#This Row],[DATUM]]),OR(Tabell1[[#This Row],[INTÄKT/UTGIFT]]="Bankkonto_in",Tabell1[[#This Row],[INTÄKT/UTGIFT]]="Bankkonto_ut",Tabell1[[#This Row],[INTÄKT/UTGIFT]]="Insättning",Tabell1[[#This Row],[INTÄKT/UTGIFT]]="Uttag")),GRUNDUPPGIFTER!$H$23+SUMPRODUCT((Tabell1[DATUM]<Tabell1[[#This Row],[DATUM]])+(Tabell1[DATUM]=Tabell1[[#This Row],[DATUM]])*(Tabell1[V-NR]<=Tabell1[[#This Row],[V-NR]]),(Tabell1[INTÄKT/UTGIFT]="Bankkonto_in")+(Tabell1[INTÄKT/UTGIFT]="Insättning")-(Tabell1[INTÄKT/UTGIFT]="Bankkonto_ut")-(Tabell1[INTÄKT/UTGIFT]="Uttag"),Tabell1[BELOPP]),"")} | N7: {=IF(AND(ISNUMBER(Tabell1[[#This Row],[DATUM]]),Tabell1[[#This Row],[KATEGORI]]<>"Presentkort",OR(Tabell1[[#This Row],[INTÄKT/UTGIFT]]="Handkassa_in",Tabell1[[#This Row],[INTÄKT/UTGIFT]]="Handkassa_ut",Tabell1[[#This Row],[INTÄKT/UTGIFT]]="Insättning",Tabell1[[#This Row],[INTÄKT/UTGIFT]]="Uttag")),GRUNDUPPGIFTER!$H$25+SUMPRODUCT((Tabell1[DATUM]<Tabell1[[#This Row],[DATUM]])+(Tabell1[DATUM]=Tabell1[[#This Row],[DATUM]])*(Tabell1[V-NR]<=Tabell1[[#This Row],[V-NR]]),((Tabell1[INTÄKT/UTGIFT]="Handkassa_in")-(Tabell1[INTÄKT/UTGIFT]="Handkassa_ut"))*(Tabell1[KATEGORI]<>"Presentkort")+(Tabell1[INTÄKT/UTGIFT]="Uttag")-(Tabell1[INTÄKT/UTGIFT]="Insättning"),Tabell1[BELOPP]),"")} | O7: {=IF(AND(ISNUMBER(Tabell1[[#This Row],[DATUM]]),Tabell1[[#This Row],[KATEGORI]]="Presentkort"),GRUNDUPPGIFTER!$H$27+SUMPRODUCT((Tabell1[DATUM]<Tabell1[[#This Row],[DATUM]])+(Tabell1[DATUM]=Tabell1[[#This Row],[DATUM]])*(Tabell1[V-NR]<=Tabell1[[#This Row],[V-NR]]),((Tabell1[INTÄKT/UTGIFT]="Handkassa_in")-(Tabell1[INTÄKT/UTGIFT]="Handkassa_ut"))*(Tabell1[KATEGORI]="Presentkort"),Tabell1[BELOPP]),"")}
I8: 7 | L8: {=IF(ISBLANK(Tabell1[[#This Row],[INTÄKT/UTGIFT]]),IF(IFERROR(COUNTIF(INDEX(Tabell1[INTÄKT/UTGIFT],ROW()-ROW(Tabell1[#Headers])+1):INDEX(Tabell1[INTÄKT/UTGIFT],ROWS(Tabell1[INTÄKT/UTGIFT])),"?*"),0)>0,"⚠ Tom rad – V-nr hoppas över",""),IF(ISBLANK(Tabell1[[#This Row],[KATEGORI]]),"Fyll i kategori",IF(ISBLANK(Tabell1[[#This Row],[DATUM]]),"Fyll i datum",IF(ISBLANK(Tabell1[[#This Row],[BELOPP]]),"Fyll i belopp",IF(ISBLANK(Tabell1[[#This Row],[KVITTO]]),"Lägg in kvittot!",IF(ISERROR(MATCH(Tabell1[[#This Row],[KATEGORI]],INDEX('Behind the scenes (RÖR EJ)'!$C$3:$H$13,0,MATCH(Tabell1[[#This Row],[INTÄKT/UTGIFT]],'Behind the scenes (RÖR EJ)'!$C$2:$H$2,0)),0)),"FEL i intäkt/utgift!",IF(NOT(ISNUMBER(Tabell1[[#This Row],[DATUM]])),"FEL: ogiltigt datum",IF(AND(ISNUMBER('Behind the scenes (RÖR EJ)'!$K$3),ISNUMBER('Behind the scenes (RÖR EJ)'!$K$4),OR(Tabell1[[#This Row],[DATUM]]<'Behind the scenes (RÖR EJ)'!$K$3,Tabell1[[#This Row],[DATUM]]>'Behind the scenes (RÖR EJ)'!$K$4)),"FEL: datum utanför räkenskapsåret",IF(NOT(ISNUMBER(Tabell1[[#This Row],[BELOPP]])),"FEL: belopp måste vara ett tal",IF(Tabell1[[#This Row],[BELOPP]]<=0,"FEL: belopp måste vara större än 0",IF(ISBLANK(Tabell1[[#This Row],[V-NR]]),"FEL: V-nr saknas",IF(COUNTIF(Tabell1[V-NR],Tabell1[[#This Row],[V-NR]])>1,"FEL: dubblett av V-nr",IF(N(Tabell1[[#This Row],[SALDO BANK]])<0,"FEL: banksaldot blir negativt här",IF(N(Tabell1[[#This Row],[SALDO KASSA]])<0,"FEL: handkassan blir negativ här",IF(N(Tabell1[[#This Row],[SALDO PRESENTKORT]])<0,"FEL: presentkortssaldot blir negativt här","KLAR")))))))))))))))} | M8: {=IF(AND(ISNUMBER(Tabell1[[#This Row],[DATUM]]),OR(Tabell1[[#This Row],[INTÄKT/UTGIFT]]="Bankkonto_in",Tabell1[[#This Row],[INTÄKT/UTGIFT]]="Bankkonto_ut",Tabell1[[#This Row],[INTÄKT/UTGIFT]]="Insättning",Tabell1[[#This Row],[INTÄKT/UTGIFT]]="Uttag")),GRUNDUPPGIFTER!$H$23+SUMPRODUCT((Tabell1[DATUM]<Tabell1[[#This Row],[DATUM]])+(Tabell1[DATUM]=Tabell1[[#This Row],[DATUM]])*(Tabell1[V-NR]<=Tabell1[[#This Row],[V-NR]]),(Tabell1[INTÄKT/UTGIFT]="Bankkonto_in")+(Tabell1[INTÄKT/UTGIFT]="Insättning")-(Tabell1[INTÄKT/UTGIFT]="Bankkonto_ut")-(Tabell1[INTÄKT/UTGIFT]="Uttag"),Tabell1[BELOPP]),"")} | N8: {=IF(AND(ISNUMBER(Tabell1[[#This Row],[DATUM]]),Tabell1[[#This Row],[KATEGORI]]<>"Presentkort",OR(Tabell1[[#This Row],[INTÄKT/UTGIFT]]="Handkassa_in",Tabell1[[#This Row],[INTÄKT/UTGIFT]]="Handkassa_ut",Tabell1[[#This Row],[INTÄKT/UTGIFT]]="Insättning",Tabell1[[#This Row],[INTÄKT/UTGIFT]]="Uttag")),GRUNDUPPGIFTER!$H$25+SUMPRODUCT((Tabell1[DATUM]<Tabell1[[#This Row],[DATUM]])+(Tabell1[DATUM]=Tabell1[[#This Row],[DATUM]])*(Tabell1[V-NR]<=Tabell1[[#This Row],[V-NR]]),((Tabell1[INTÄKT/UTGIFT]="Handkassa_in")-(Tabell1[INTÄKT/UTGIFT]="Handkassa_ut"))*(Tabell1[KATEGORI]<>"Presentkort")+(Tabell1[INTÄKT/UTGIFT]="Uttag")-(Tabell1[INTÄKT/UTGIFT]="Insättning"),Tabell1[BELOPP]),"")} | O8: {=IF(AND(ISNUMBER(Tabell1[[#This Row],[DATUM]]),Tabell1[[#This Row],[KATEGORI]]="Presentkort"),GRUNDUPPGIFTER!$H$27+SUMPRODUCT((Tabell1[DATUM]<Tabell1[[#This Row],[DATUM]])+(Tabell1[DATUM]=Tabell1[[#This Row],[DATUM]])*(Tabell1[V-NR]<=Tabell1[[#This Row],[V-NR]]),((Tabell1[INTÄKT/UTGIFT]="Handkassa_in")-(Tabell1[INTÄKT/UTGIFT]="Handkassa_ut"))*(Tabell1[KATEGORI]="Presentkort"),Tabell1[BELOPP]),"")}
I9: 8 | L9: {=IF(ISBLANK(Tabell1[[#This Row],[INTÄKT/UTGIFT]]),IF(IFERROR(COUNTIF(INDEX(Tabell1[INTÄKT/UTGIFT],ROW()-ROW(Tabell1[#Headers])+1):INDEX(Tabell1[INTÄKT/UTGIFT],ROWS(Tabell1[INTÄKT/UTGIFT])),"?*"),0)>0,"⚠ Tom rad – V-nr hoppas över",""),IF(ISBLANK(Tabell1[[#This Row],[KATEGORI]]),"Fyll i kategori",IF(ISBLANK(Tabell1[[#This Row],[DATUM]]),"Fyll i datum",IF(ISBLANK(Tabell1[[#This Row],[BELOPP]]),"Fyll i belopp",IF(ISBLANK(Tabell1[[#This Row],[KVITTO]]),"Lägg in kvittot!",IF(ISERROR(MATCH(Tabell1[[#This Row],[KATEGORI]],INDEX('Behind the scenes (RÖR EJ)'!$C$3:$H$13,0,MATCH(Tabell1[[#This Row],[INTÄKT/UTGIFT]],'Behind the scenes (RÖR EJ)'!$C$2:$H$2,0)),0)),"FEL i intäkt/utgift!",IF(NOT(ISNUMBER(Tabell1[[#This Row],[DATUM]])),"FEL: ogiltigt datum",IF(AND(ISNUMBER('Behind the scenes (RÖR EJ)'!$K$3),ISNUMBER('Behind the scenes (RÖR EJ)'!$K$4),OR(Tabell1[[#This Row],[DATUM]]<'Behind the scenes (RÖR EJ)'!$K$3,Tabell1[[#This Row],[DATUM]]>'Behind the scenes (RÖR EJ)'!$K$4)),"FEL: datum utanför räkenskapsåret",IF(NOT(ISNUMBER(Tabell1[[#This Row],[BELOPP]])),"FEL: belopp måste vara ett tal",IF(Tabell1[[#This Row],[BELOPP]]<=0,"FEL: belopp måste vara större än 0",IF(ISBLANK(Tabell1[[#This Row],[V-NR]]),"FEL: V-nr saknas",IF(COUNTIF(Tabell1[V-NR],Tabell1[[#This Row],[V-NR]])>1,"FEL: dubblett av V-nr",IF(N(Tabell1[[#This Row],[SALDO BANK]])<0,"FEL: banksaldot blir negativt här",IF(N(Tabell1[[#This Row],[SALDO KASSA]])<0,"FEL: handkassan blir negativ här",IF(N(Tabell1[[#This Row],[SALDO PRESENTKORT]])<0,"FEL: presentkortssaldot blir negativt här","KLAR")))))))))))))))} | M9: {=IF(AND(ISNUMBER(Tabell1[[#This Row],[DATUM]]),OR(Tabell1[[#This Row],[INTÄKT/UTGIFT]]="Bankkonto_in",Tabell1[[#This Row],[INTÄKT/UTGIFT]]="Bankkonto_ut",Tabell1[[#This Row],[INTÄKT/UTGIFT]]="Insättning",Tabell1[[#This Row],[INTÄKT/UTGIFT]]="Uttag")),GRUNDUPPGIFTER!$H$23+SUMPRODUCT((Tabell1[DATUM]<Tabell1[[#This Row],[DATUM]])+(Tabell1[DATUM]=Tabell1[[#This Row],[DATUM]])*(Tabell1[V-NR]<=Tabell1[[#This Row],[V-NR]]),(Tabell1[INTÄKT/UTGIFT]="Bankkonto_in")+(Tabell1[INTÄKT/UTGIFT]="Insättning")-(Tabell1[INTÄKT/UTGIFT]="Bankkonto_ut")-(Tabell1[INTÄKT/UTGIFT]="Uttag"),Tabell1[BELOPP]),"")} | N9: {=IF(AND(ISNUMBER(Tabell1[[#This Row],[DATUM]]),Tabell1[[#This Row],[KATEGORI]]<>"Presentkort",OR(Tabell1[[#This Row],[INTÄKT/UTGIFT]]="Handkassa_in",Tabell1[[#This Row],[INTÄKT/UTGIFT]]="Handkassa_ut",Tabell1[[#This Row],[INTÄKT/UTGIFT]]="Insättning",Tabell1[[#This Row],[INTÄKT/UTGIFT]]="Uttag")),GRUNDUPPGIFTER!$H$25+SUMPRODUCT((Tabell1[DATUM]<Tabell1[[#This Row],[DATUM]])+(Tabell1[DATUM]=Tabell1[[#This Row],[DATUM]])*(Tabell1[V-NR]<=Tabell1[[#This Row],[V-NR]]),((Tabell1[INTÄKT/UTGIFT]="Handkassa_in")-(Tabell1[INTÄKT/UTGIFT]="Handkassa_ut"))*(Tabell1[KATEGORI]<>"Presentkort")+(Tabell1[INTÄKT/UTGIFT]="Uttag")-(Tabell1[INTÄKT/UTGIFT]="Insättning"),Tabell1[BELOPP]),"")} | O9: {=IF(AND(ISNUMBER(Tabell1[[#This Row],[DATUM]]),Tabell1[[#This Row],[KATEGORI]]="Presentkort"),GRUNDUPPGIFTER!$H$27+SUMPRODUCT((Tabell1[DATUM]<Tabell1[[#This Row],[DATUM]])+(Tabell1[DATUM]=Tabell1[[#This Row],[DATUM]])*(Tabell1[V-NR]<=Tabell1[[#This Row],[V-NR]]),((Tabell1[INTÄKT/UTGIFT]="Handkassa_in")-(Tabell1[INTÄKT/UTGIFT]="Handkassa_ut"))*(Tabell1[KATEGORI]="Presentkort"),Tabell1[BELOPP]),"")}
I10: 9 | L10: {=IF(ISBLANK(Tabell1[[#This Row],[INTÄKT/UTGIFT]]),IF(IFERROR(COUNTIF(INDEX(Tabell1[INTÄKT/UTGIFT],ROW()-ROW(Tabell1[#Headers])+1):INDEX(Tabell1[INTÄKT/UTGIFT],ROWS(Tabell1[INTÄKT/UTGIFT])),"?*"),0)>0,"⚠ Tom rad – V-nr hoppas över",""),IF(ISBLANK(Tabell1[[#This Row],[KATEGORI]]),"Fyll i kategori",IF(ISBLANK(Tabell1[[#This Row],[DATUM]]),"Fyll i datum",IF(ISBLANK(Tabell1[[#This Row],[BELOPP]]),"Fyll i belopp",IF(ISBLANK(Tabell1[[#This Row],[KVITTO]]),"Lägg in kvittot!",IF(ISERROR(MATCH(Tabell1[[#This Row],[KATEGORI]],INDEX('Behind the scenes (RÖR EJ)'!$C$3:$H$13,0,MATCH(Tabell1[[#This Row],[INTÄKT/UTGIFT]],'Behind the scenes (RÖR EJ)'!$C$2:$H$2,0)),0)),"FEL i intäkt/utgift!",IF(NOT(ISNUMBER(Tabell1[[#This Row],[DATUM]])),"FEL: ogiltigt datum",IF(AND(ISNUMBER('Behind the scenes (RÖR EJ)'!$K$3),ISNUMBER('Behind the scenes (RÖR EJ)'!$K$4),OR(Tabell1[[#This Row],[DATUM]]<'Behind the scenes (RÖR EJ)'!$K$3,Tabell1[[#This Row],[DATUM]]>'Behind the scenes (RÖR EJ)'!$K$4)),"FEL: datum utanför räkenskapsåret",IF(NOT(ISNUMBER(Tabell1[[#This Row],[BELOPP]])),"FEL: belopp måste vara ett tal",IF(Tabell1[[#This Row],[BELOPP]]<=0,"FEL: belopp måste vara större än 0",IF(ISBLANK(Tabell1[[#This Row],[V-NR]]),"FEL: V-nr saknas",IF(COUNTIF(Tabell1[V-NR],Tabell1[[#This Row],[V-NR]])>1,"FEL: dubblett av V-nr",IF(N(Tabell1[[#This Row],[SALDO BANK]])<0,"FEL: banksaldot blir negativt här",IF(N(Tabell1[[#This Row],[SALDO KASSA]])<0,"FEL: handkassan blir negativ här",IF(N(Tabell1[[#This Row],[SALDO PRESENTKORT]])<0,"FEL: presentkortssaldot blir negativt här","KLAR")))))))))))))))} | M10: {=IF(AND(ISNUMBER(Tabell1[[#This Row],[DATUM]]),OR(Tabell1[[#This Row],[INTÄKT/UTGIFT]]="Bankkonto_in",Tabell1[[#This Row],[INTÄKT/UTGIFT]]="Bankkonto_ut",Tabell1[[#This Row],[INTÄKT/UTGIFT]]="Insättning",Tabell1[[#This Row],[INTÄKT/UTGIFT]]="Uttag")),GRUNDUPPGIFTER!$H$23+SUMPRODUCT((Tabell1[DATUM]<Tabell1[[#This Row],[DATUM]])+(Tabell1[DATUM]=Tabell1[[#This Row],[DATUM]])*(Tabell1[V-NR]<=Tabell1[[#This Row],[V-NR]]),(Tabell1[INTÄKT/UTGIFT]="Bankkonto_in")+(Tabell1[INTÄKT/UTGIFT]="Insättning")-(Tabell1[INTÄKT/UTGIFT]="Bankkonto_ut")-(Tabell1[INTÄKT/UTGIFT]="Uttag"),Tabell1[BELOPP]),"")} | N10: {=IF(AND(ISNUMBER(Tabell1[[#This Row],[DATUM]]),Tabell1[[#This Row],[KATEGORI]]<>"Presentkort",OR(Tabell1[[#This Row],[INTÄKT/UTGIFT]]="Handkassa_in",Tabell1[[#This Row],[INTÄKT/UTGIFT]]="Handkassa_ut",Tabell1[[#This Row],[INTÄKT/UTGIFT]]="Insättning",Tabell1[[#This Row],[INTÄKT/UTGIFT]]="Uttag")),GRUNDUPPGIFTER!$H$25+SUMPRODUCT((Tabell1[DATUM]<Tabell1[[#This Row],[DATUM]])+(Tabell1[DATUM]=Tabell1[[#This Row],[DATUM]])*(Tabell1[V-NR]<=Tabell1[[#This Row],[V-NR]]),((Tabell1[INTÄKT/UTGIFT]="Handkassa_in")-(Tabell1[INTÄKT/UTGIFT]="Handkassa_ut"))*(Tabell1[KATEGORI]<>"Presentkort")+(Tabell1[INTÄKT/UTGIFT]="Uttag")-(Tabell1[INTÄKT/UTGIFT]="Insättning"),Tabell1[BELOPP]),"")} | O10: {=IF(AND(ISNUMBER(Tabell1[[#This Row],[DATUM]]),Tabell1[[#This Row],[KATEGORI]]="Presentkort"),GRUNDUPPGIFTER!$H$27+SUMPRODUCT((Tabell1[DATUM]<Tabell1[[#This Row],[DATUM]])+(Tabell1[DATUM]=Tabell1[[#This Row],[DATUM]])*(Tabell1[V-NR]<=Tabell1[[#This Row],[V-NR]]),((Tabell1[INTÄKT/UTGIFT]="Handkassa_in")-(Tabell1[INTÄKT/UTGIFT]="Handkassa_ut"))*(Tabell1[KATEGORI]="Presentkort"),Tabell1[BELOPP]),"")}
I11: 10 | L11: {=IF(ISBLANK(Tabell1[[#This Row],[INTÄKT/UTGIFT]]),IF(IFERROR(COUNTIF(INDEX(Tabell1[INTÄKT/UTGIFT],ROW()-ROW(Tabell1[#Headers])+1):INDEX(Tabell1[INTÄKT/UTGIFT],ROWS(Tabell1[INTÄKT/UTGIFT])),"?*"),0)>0,"⚠ Tom rad – V-nr hoppas över",""),IF(ISBLANK(Tabell1[[#This Row],[KATEGORI]]),"Fyll i kategori",IF(ISBLANK(Tabell1[[#This Row],[DATUM]]),"Fyll i datum",IF(ISBLANK(Tabell1[[#This Row],[BELOPP]]),"Fyll i belopp",IF(ISBLANK(Tabell1[[#This Row],[KVITTO]]),"Lägg in kvittot!",IF(ISERROR(MATCH(Tabell1[[#This Row],[KATEGORI]],INDEX('Behind the scenes (RÖR EJ)'!$C$3:$H$13,0,MATCH(Tabell1[[#This Row],[INTÄKT/UTGIFT]],'Behind the scenes (RÖR EJ)'!$C$2:$H$2,0)),0)),"FEL i intäkt/utgift!",IF(NOT(ISNUMBER(Tabell1[[#This Row],[DATUM]])),"FEL: ogiltigt datum",IF(AND(ISNUMBER('Behind the scenes (RÖR EJ)'!$K$3),ISNUMBER('Behind the scenes (RÖR EJ)'!$K$4),OR(Tabell1[[#This Row],[DATUM]]<'Behind the scenes (RÖR EJ)'!$K$3,Tabell1[[#This Row],[DATUM]]>'Behind the scenes (RÖR EJ)'!$K$4)),"FEL: datum utanför räkenskapsåret",IF(NOT(ISNUMBER(Tabell1[[#This Row],[BELOPP]])),"FEL: belopp måste vara ett tal",IF(Tabell1[[#This Row],[BELOPP]]<=0,"FEL: belopp måste vara större än 0",IF(ISBLANK(Tabell1[[#This Row],[V-NR]]),"FEL: V-nr saknas",IF(COUNTIF(Tabell1[V-NR],Tabell1[[#This Row],[V-NR]])>1,"FEL: dubblett av V-nr",IF(N(Tabell1[[#This Row],[SALDO BANK]])<0,"FEL: banksaldot blir negativt här",IF(N(Tabell1[[#This Row],[SALDO KASSA]])<0,"FEL: handkassan blir negativ här",IF(N(Tabell1[[#This Row],[SALDO PRESENTKORT]])<0,"FEL: presentkortssaldot blir negativt här","KLAR")))))))))))))))} | M11: {=IF(AND(ISNUMBER(Tabell1[[#This Row],[DATUM]]),OR(Tabell1[[#This Row],[INTÄKT/UTGIFT]]="Bankkonto_in",Tabell1[[#This Row],[INTÄKT/UTGIFT]]="Bankkonto_ut",Tabell1[[#This Row],[INTÄKT/UTGIFT]]="Insättning",Tabell1[[#This Row],[INTÄKT/UTGIFT]]="Uttag")),GRUNDUPPGIFTER!$H$23+SUMPRODUCT((Tabell1[DATUM]<Tabell1[[#This Row],[DATUM]])+(Tabell1[DATUM]=Tabell1[[#This Row],[DATUM]])*(Tabell1[V-NR]<=Tabell1[[#This Row],[V-NR]]),(Tabell1[INTÄKT/UTGIFT]="Bankkonto_in")+(Tabell1[INTÄKT/UTGIFT]="Insättning")-(Tabell1[INTÄKT/UTGIFT]="Bankkonto_ut")-(Tabell1[INTÄKT/UTGIFT]="Uttag"),Tabell1[BELOPP]),"")} | N11: {=IF(AND(ISNUMBER(Tabell1[[#This Row],[DATUM]]),Tabell1[[#This Row],[KATEGORI]]<>"Presentkort",OR(Tabell1[[#This Row],[INTÄKT/UTGIFT]]="Handkassa_in",Tabell1[[#This Row],[INTÄKT/UTGIFT]]="Handkassa_ut",Tabell1[[#This Row],[INTÄKT/UTGIFT]]="Insättning",Tabell1[[#This Row],[INTÄKT/UTGIFT]]="Uttag")),GRUNDUPPGIFTER!$H$25+SUMPRODUCT((Tabell1[DATUM]<Tabell1[[#This Row],[DATUM]])+(Tabell1[DATUM]=Tabell1[[#This Row],[DATUM]])*(Tabell1[V-NR]<=Tabell1[[#This Row],[V-NR]]),((Tabell1[INTÄKT/UTGIFT]="Handkassa_in")-(Tabell1[INTÄKT/UTGIFT]="Handkassa_ut"))*(Tabell1[KATEGORI]<>"Presentkort")+(Tabell1[INTÄKT/UTGIFT]="Uttag")-(Tabell1[INTÄKT/UTGIFT]="Insättning"),Tabell1[BELOPP]),"")} | O11: {=IF(AND(ISNUMBER(Tabell1[[#This Row],[DATUM]]),Tabell1[[#This Row],[KATEGORI]]="Presentkort"),GRUNDUPPGIFTER!$H$27+SUMPRODUCT((Tabell1[DATUM]<Tabell1[[#This Row],[DATUM]])+(Tabell1[DATUM]=Tabell1[[#This Row],[DATUM]])*(Tabell1[V-NR]<=Tabell1[[#This Row],[V-NR]]),((Tabell1[INTÄKT/UTGIFT]="Handkassa_in")-(Tabell1[INTÄKT/UTGIFT]="Handkassa_ut"))*(Tabell1[KATEGORI]="Presentkort"),Tabell1[BELOPP]),"")}
I12: 11 | L12: {=IF(ISBLANK(Tabell1[[#This Row],[INTÄKT/UTGIFT]]),IF(IFERROR(COUNTIF(INDEX(Tabell1[INTÄKT/UTGIFT],ROW()-ROW(Tabell1[#Headers])+1):INDEX(Tabell1[INTÄKT/UTGIFT],ROWS(Tabell1[INTÄKT/UTGIFT])),"?*"),0)>0,"⚠ Tom rad – V-nr hoppas över",""),IF(ISBLANK(Tabell1[[#This Row],[KATEGORI]]),"Fyll i kategori",IF(ISBLANK(Tabell1[[#This Row],[DATUM]]),"Fyll i datum",IF(ISBLANK(Tabell1[[#This Row],[BELOPP]]),"Fyll i belopp",IF(ISBLANK(Tabell1[[#This Row],[KVITTO]]),"Lägg in kvittot!",IF(ISERROR(MATCH(Tabell1[[#This Row],[KATEGORI]],INDEX('Behind the scenes (RÖR EJ)'!$C$3:$H$13,0,MATCH(Tabell1[[#This Row],[INTÄKT/UTGIFT]],'Behind the scenes (RÖR EJ)'!$C$2:$H$2,0)),0)),"FEL i intäkt/utgift!",IF(NOT(ISNUMBER(Tabell1[[#This Row],[DATUM]])),"FEL: ogiltigt datum",IF(AND(ISNUMBER('Behind the scenes (RÖR EJ)'!$K$3),ISNUMBER('Behind the scenes (RÖR EJ)'!$K$4),OR(Tabell1[[#This Row],[DATUM]]<'Behind the scenes (RÖR EJ)'!$K$3,Tabell1[[#This Row],[DATUM]]>'Behind the scenes (RÖR EJ)'!$K$4)),"FEL: datum utanför räkenskapsåret",IF(NOT(ISNUMBER(Tabell1[[#This Row],[BELOPP]])),"FEL: belopp måste vara ett tal",IF(Tabell1[[#This Row],[BELOPP]]<=0,"FEL: belopp måste vara större än 0",IF(ISBLANK(Tabell1[[#This Row],[V-NR]]),"FEL: V-nr saknas",IF(COUNTIF(Tabell1[V-NR],Tabell1[[#This Row],[V-NR]])>1,"FEL: dubblett av V-nr",IF(N(Tabell1[[#This Row],[SALDO BANK]])<0,"FEL: banksaldot blir negativt här",IF(N(Tabell1[[#This Row],[SALDO KASSA]])<0,"FEL: handkassan blir negativ här",IF(N(Tabell1[[#This Row],[SALDO PRESENTKORT]])<0,"FEL: presentkortssaldot blir negativt här","KLAR")))))))))))))))} | M12: {=IF(AND(ISNUMBER(Tabell1[[#This Row],[DATUM]]),OR(Tabell1[[#This Row],[INTÄKT/UTGIFT]]="Bankkonto_in",Tabell1[[#This Row],[INTÄKT/UTGIFT]]="Bankkonto_ut",Tabell1[[#This Row],[INTÄKT/UTGIFT]]="Insättning",Tabell1[[#This Row],[INTÄKT/UTGIFT]]="Uttag")),GRUNDUPPGIFTER!$H$23+SUMPRODUCT((Tabell1[DATUM]<Tabell1[[#This Row],[DATUM]])+(Tabell1[DATUM]=Tabell1[[#This Row],[DATUM]])*(Tabell1[V-NR]<=Tabell1[[#This Row],[V-NR]]),(Tabell1[INTÄKT/UTGIFT]="Bankkonto_in")+(Tabell1[INTÄKT/UTGIFT]="Insättning")-(Tabell1[INTÄKT/UTGIFT]="Bankkonto_ut")-(Tabell1[INTÄKT/UTGIFT]="Uttag"),Tabell1[BELOPP]),"")} | N12: {=IF(AND(ISNUMBER(Tabell1[[#This Row],[DATUM]]),Tabell1[[#This Row],[KATEGORI]]<>"Presentkort",OR(Tabell1[[#This Row],[INTÄKT/UTGIFT]]="Handkassa_in",Tabell1[[#This Row],[INTÄKT/UTGIFT]]="Handkassa_ut",Tabell1[[#This Row],[INTÄKT/UTGIFT]]="Insättning",Tabell1[[#This Row],[INTÄKT/UTGIFT]]="Uttag")),GRUNDUPPGIFTER!$H$25+SUMPRODUCT((Tabell1[DATUM]<Tabell1[[#This Row],[DATUM]])+(Tabell1[DATUM]=Tabell1[[#This Row],[DATUM]])*(Tabell1[V-NR]<=Tabell1[[#This Row],[V-NR]]),((Tabell1[INTÄKT/UTGIFT]="Handkassa_in")-(Tabell1[INTÄKT/UTGIFT]="Handkassa_ut"))*(Tabell1[KATEGORI]<>"Presentkort")+(Tabell1[INTÄKT/UTGIFT]="Uttag")-(Tabell1[INTÄKT/UTGIFT]="Insättning"),Tabell1[BELOPP]),"")} | O12: {=IF(AND(ISNUMBER(Tabell1[[#This Row],[DATUM]]),Tabell1[[#This Row],[KATEGORI]]="Presentkort"),GRUNDUPPGIFTER!$H$27+SUMPRODUCT((Tabell1[DATUM]<Tabell1[[#This Row],[DATUM]])+(Tabell1[DATUM]=Tabell1[[#This Row],[DATUM]])*(Tabell1[V-NR]<=Tabell1[[#This Row],[V-NR]]),((Tabell1[INTÄKT/UTGIFT]="Handkassa_in")-(Tabell1[INTÄKT/UTGIFT]="Handkassa_ut"))*(Tabell1[KATEGORI]="Presentkort"),Tabell1[BELOPP]),"")}
I13: 12 | L13: {=IF(ISBLANK(Tabell1[[#This Row],[INTÄKT/UTGIFT]]),IF(IFERROR(COUNTIF(INDEX(Tabell1[INTÄKT/UTGIFT],ROW()-ROW(Tabell1[#Headers])+1):INDEX(Tabell1[INTÄKT/UTGIFT],ROWS(Tabell1[INTÄKT/UTGIFT])),"?*"),0)>0,"⚠ Tom rad – V-nr hoppas över",""),IF(ISBLANK(Tabell1[[#This Row],[KATEGORI]]),"Fyll i kategori",IF(ISBLANK(Tabell1[[#This Row],[DATUM]]),"Fyll i datum",IF(ISBLANK(Tabell1[[#This Row],[BELOPP]]),"Fyll i belopp",IF(ISBLANK(Tabell1[[#This Row],[KVITTO]]),"Lägg in kvittot!",IF(ISERROR(MATCH(Tabell1[[#This Row],[KATEGORI]],INDEX('Behind the scenes (RÖR EJ)'!$C$3:$H$13,0,MATCH(Tabell1[[#This Row],[INTÄKT/UTGIFT]],'Behind the scenes (RÖR EJ)'!$C$2:$H$2,0)),0)),"FEL i intäkt/utgift!",IF(NOT(ISNUMBER(Tabell1[[#This Row],[DATUM]])),"FEL: ogiltigt datum",IF(AND(ISNUMBER('Behind the scenes (RÖR EJ)'!$K$3),ISNUMBER('Behind the scenes (RÖR EJ)'!$K$4),OR(Tabell1[[#This Row],[DATUM]]<'Behind the scenes (RÖR EJ)'!$K$3,Tabell1[[#This Row],[DATUM]]>'Behind the scenes (RÖR EJ)'!$K$4)),"FEL: datum utanför räkenskapsåret",IF(NOT(ISNUMBER(Tabell1[[#This Row],[BELOPP]])),"FEL: belopp måste vara ett tal",IF(Tabell1[[#This Row],[BELOPP]]<=0,"FEL: belopp måste vara större än 0",IF(ISBLANK(Tabell1[[#This Row],[V-NR]]),"FEL: V-nr saknas",IF(COUNTIF(Tabell1[V-NR],Tabell1[[#This Row],[V-NR]])>1,"FEL: dubblett av V-nr",IF(N(Tabell1[[#This Row],[SALDO BANK]])<0,"FEL: banksaldot blir negativt här",IF(N(Tabell1[[#This Row],[SALDO KASSA]])<0,"FEL: handkassan blir negativ här",IF(N(Tabell1[[#This Row],[SALDO PRESENTKORT]])<0,"FEL: presentkortssaldot blir negativt här","KLAR")))))))))))))))} | M13: {=IF(AND(ISNUMBER(Tabell1[[#This Row],[DATUM]]),OR(Tabell1[[#This Row],[INTÄKT/UTGIFT]]="Bankkonto_in",Tabell1[[#This Row],[INTÄKT/UTGIFT]]="Bankkonto_ut",Tabell1[[#This Row],[INTÄKT/UTGIFT]]="Insättning",Tabell1[[#This Row],[INTÄKT/UTGIFT]]="Uttag")),GRUNDUPPGIFTER!$H$23+SUMPRODUCT((Tabell1[DATUM]<Tabell1[[#This Row],[DATUM]])+(Tabell1[DATUM]=Tabell1[[#This Row],[DATUM]])*(Tabell1[V-NR]<=Tabell1[[#This Row],[V-NR]]),(Tabell1[INTÄKT/UTGIFT]="Bankkonto_in")+(Tabell1[INTÄKT/UTGIFT]="Insättning")-(Tabell1[INTÄKT/UTGIFT]="Bankkonto_ut")-(Tabell1[INTÄKT/UTGIFT]="Uttag"),Tabell1[BELOPP]),"")} | N13: {=IF(AND(ISNUMBER(Tabell1[[#This Row],[DATUM]]),Tabell1[[#This Row],[KATEGORI]]<>"Presentkort",OR(Tabell1[[#This Row],[INTÄKT/UTGIFT]]="Handkassa_in",Tabell1[[#This Row],[INTÄKT/UTGIFT]]="Handkassa_ut",Tabell1[[#This Row],[INTÄKT/UTGIFT]]="Insättning",Tabell1[[#This Row],[INTÄKT/UTGIFT]]="Uttag")),GRUNDUPPGIFTER!$H$25+SUMPRODUCT((Tabell1[DATUM]<Tabell1[[#This Row],[DATUM]])+(Tabell1[DATUM]=Tabell1[[#This Row],[DATUM]])*(Tabell1[V-NR]<=Tabell1[[#This Row],[V-NR]]),((Tabell1[INTÄKT/UTGIFT]="Handkassa_in")-(Tabell1[INTÄKT/UTGIFT]="Handkassa_ut"))*(Tabell1[KATEGORI]<>"Presentkort")+(Tabell1[INTÄKT/UTGIFT]="Uttag")-(Tabell1[INTÄKT/UTGIFT]="Insättning"),Tabell1[BELOPP]),"")} | O13: {=IF(AND(ISNUMBER(Tabell1[[#This Row],[DATUM]]),Tabell1[[#This Row],[KATEGORI]]="Presentkort"),GRUNDUPPGIFTER!$H$27+SUMPRODUCT((Tabell1[DATUM]<Tabell1[[#This Row],[DATUM]])+(Tabell1[DATUM]=Tabell1[[#This Row],[DATUM]])*(Tabell1[V-NR]<=Tabell1[[#This Row],[V-NR]]),((Tabell1[INTÄKT/UTGIFT]="Handkassa_in")-(Tabell1[INTÄKT/UTGIFT]="Handkassa_ut"))*(Tabell1[KATEGORI]="Presentkort"),Tabell1[BELOPP]),"")}
... I501: 500 | L501: {=IF(ISBLANK(Tabell1[[#This Row],[INTÄKT/UTGIFT]]),IF(IFERROR(COUNTIF(INDEX(Tabell1[INTÄKT/UTGIFT],ROW()-ROW(Tabell1[#Headers])+1):INDEX(Tabell1[INTÄKT/UTGIFT],ROWS(Tabell1[INTÄKT/UTGIFT])),"?*"),0)>0,"⚠ Tom rad – V-nr hoppas över",""),IF(ISBLANK(Tabell1[[#This Row],[KATEGORI]]),"Fyll i kategori",IF(ISBLANK(Tabell1[[#This Row],[DATUM]]),"Fyll i datum",IF(ISBLANK(Tabell1[[#This Row],[BELOPP]]),"Fyll i belopp",IF(ISBLANK(Tabell1[[#This Row],[KVITTO]]),"Lägg in kvittot!",IF(ISERROR(MATCH(Tabell1[[#This Row],[KATEGORI]],INDEX('Behind the scenes (RÖR EJ)'!$C$3:$H$13,0,MATCH(Tabell1[[#This Row],[INTÄKT/UTGIFT]],'Behind the scenes (RÖR EJ)'!$C$2:$H$2,0)),0)),"FEL i intäkt/utgift!",IF(NOT(ISNUMBER(Tabell1[[#This Row],[DATUM]])),"FEL: ogiltigt datum",IF(AND(ISNUMBER('Behind the scenes (RÖR EJ)'!$K$3),ISNUMBER('Behind the scenes (RÖR EJ)'!$K$4),OR(Tabell1[[#This Row],[DATUM]]<'Behind the scenes (RÖR EJ)'!$K$3,Tabell1[[#This Row],[DATUM]]>'Behind the scenes (RÖR EJ)'!$K$4)),"FEL: datum utanför räkenskapsåret",IF(NOT(ISNUMBER(Tabell1[[#This Row],[BELOPP]])),"FEL: belopp måste vara ett tal",IF(Tabell1[[#This Row],[BELOPP]]<=0,"FEL: belopp måste vara större än 0",IF(ISBLANK(Tabell1[[#This Row],[V-NR]]),"FEL: V-nr saknas",IF(COUNTIF(Tabell1[V-NR],Tabell1[[#This Row],[V-NR]])>1,"FEL: dubblett av V-nr",IF(N(Tabell1[[#This Row],[SALDO BANK]])<0,"FEL: banksaldot blir negativt här",IF(N(Tabell1[[#This Row],[SALDO KASSA]])<0,"FEL: handkassan blir negativ här",IF(N(Tabell1[[#This Row],[SALDO PRESENTKORT]])<0,"FEL: presentkortssaldot blir negativt här","KLAR")))))))))))))))} | M501: {=IF(AND(ISNUMBER(Tabell1[[#This Row],[DATUM]]),OR(Tabell1[[#This Row],[INTÄKT/UTGIFT]]="Bankkonto_in",Tabell1[[#This Row],[INTÄKT/UTGIFT]]="Bankkonto_ut",Tabell1[[#This Row],[INTÄKT/UTGIFT]]="Insättning",Tabell1[[#This Row],[INTÄKT/UTGIFT]]="Uttag")),GRUNDUPPGIFTER!$H$23+SUMPRODUCT((Tabell1[DATUM]<Tabell1[[#This Row],[DATUM]])+(Tabell1[DATUM]=Tabell1[[#This Row],[DATUM]])*(Tabell1[V-NR]<=Tabell1[[#This Row],[V-NR]]),(Tabell1[INTÄKT/UTGIFT]="Bankkonto_in")+(Tabell1[INTÄKT/UTGIFT]="Insättning")-(Tabell1[INTÄKT/UTGIFT]="Bankkonto_ut")-(Tabell1[INTÄKT/UTGIFT]="Uttag"),Tabell1[BELOPP]),"")} | N501: {=IF(AND(ISNUMBER(Tabell1[[#This Row],[DATUM]]),Tabell1[[#This Row],[KATEGORI]]<>"Presentkort",OR(Tabell1[[#This Row],[INTÄKT/UTGIFT]]="Handkassa_in",Tabell1[[#This Row],[INTÄKT/UTGIFT]]="Handkassa_ut",Tabell1[[#This Row],[INTÄKT/UTGIFT]]="Insättning",Tabell1[[#This Row],[INTÄKT/UTGIFT]]="Uttag")),GRUNDUPPGIFTER!$H$25+SUMPRODUCT((Tabell1[DATUM]<Tabell1[[#This Row],[DATUM]])+(Tabell1[DATUM]=Tabell1[[#This Row],[DATUM]])*(Tabell1[V-NR]<=Tabell1[[#This Row],[V-NR]]),((Tabell1[INTÄKT/UTGIFT]="Handkassa_in")-(Tabell1[INTÄKT/UTGIFT]="Handkassa_ut"))*(Tabell1[KATEGORI]<>"Presentkort")+(Tabell1[INTÄKT/UTGIFT]="Uttag")-(Tabell1[INTÄKT/UTGIFT]="Insättning"),Tabell1[BELOPP]),"")} | O501: {=IF(AND(ISNUMBER(Tabell1[[#This Row],[DATUM]]),Tabell1[[#This Row],[KATEGORI]]="Presentkort"),GRUNDUPPGIFTER!$H$27+SUMPRODUCT((Tabell1[DATUM]<Tabell1[[#This Row],[DATUM]])+(Tabell1[DATUM]=Tabell1[[#This Row],[DATUM]])*(Tabell1[V-NR]<=Tabell1[[#This Row],[V-NR]]),((Tabell1[INTÄKT/UTGIFT]="Handkassa_in")-(Tabell1[INTÄKT/UTGIFT]="Handkassa_ut"))*(Tabell1[KATEGORI]="Presentkort"),Tabell1[BELOPP]),"")}

Sheet BOKSLUT
F2: INFÖR BOKSLUT
G3: UTGÅENDE SALDON (fylls i när räkenskapsåret är slut):
G4: Utgående banksaldo (enligt kontoutdrag)
G5: Utgående handkassa (enligt kassaräkning)
G6: Utgående övriga tillgångar
G7: Utgående skulder
G9: UTSKRIFTSVAL:
G10: Skriv ut den skriftliga beskrivningen (sida 2)? | I10: Ja
G11: Frivillig, men ökar transparensen och hjälper kommande styrelser.
G13: ▲ Den gröna delen skrivs inte ut · ▼ Allt nedanför skrivs ut
G15: =IF(GRUNDUPPGIFTER!F10="","Ekonomisk berättelse","Ekonomisk berättelse för "&GRUNDUPPGIFTER!F10) -> Ekonomisk berättelse | L15: KONTROLLER – räknas automatiskt, skrivs inte ut
G16: =IF($I$10="Nej","Bokslut (resultat- och balansräkning)","Bokslut (resultat- och balansräkning) samt skriftlig beskrivning") -> Bokslut (resultat- och balansräkning) samt skriftlig beskrivning | L16: =IF(COUNTIF(L19:L31,"✖*")>0,"✖ ",IF(COUNTIF(L19:L31,"…*")>0,"… ","✔ "))&COUNTIF(L19:L31,"✔*")&" av "&(COUNTIF(L19:L31,"✔*")+COUNTIF(L19:L31,"✖*")+COUNTIF(L19:L31,"…*"))&" kontroller OK"&IF(COUNTIF(L19:L31,"✖*")>0," · "&COUNTIF(L19:L31,"✖*")&" fel","")&IF(COUNTIF(L19:L31,"…*")>0," · "&COUNTIF(L19:L31,"…*")&" att fylla i","")&IF(COUNTIF(L19:L31,"⚠*")>0," · "&COUNTIF(L19:L31,"⚠*")&" varning","") -> ✖ 4 av 8 kontroller OK · 1 fel · 3 att fylla i
G17: =IF(GRUNDUPPGIFTER!F12="","",("Org. nr "&GRUNDUPPGIFTER!F12)&IF('Behind the scenes (RÖR EJ)'!K5="",""," · "))&IF('Behind the scenes (RÖR EJ)'!K5="","","Räkenskapsår "&'Behind the scenes (RÖR EJ)'!K5) | L17: Utgående banksaldo (kontoutdrag) och utgående handkassa (kassaräkning) fylls i högst upp på det här bladet. Förra årets utgående saldon är frivilliga och fylls i på GRUNDUPPGIFTER.
L18: AVSTÄMNING
G19: RESULTATRÄKNING | L19: =IF(ROUND(I57-I67,2)=0,"✔ Balansräkningen går ihop","✖ Balansräkningen går inte ihop – skillnad "&FIXED(I57-I67,0)&" kr") -> ✔ Balansräkningen går ihop
G20: ='Behind the scenes (RÖR EJ)'!K5 | L20: =IF(BOKSLUT!I4="","… Banken: fyll i utgående banksaldo enligt kontoutdrag högst upp på det här bladet",IF(ROUND(I53-BOKSLUT!I4,2)=0,"✔ Banken stämmer med kontoutdraget","✖ Banken stämmer inte med kontoutdraget – skillnad "&FIXED(I53-BOKSLUT!I4,0)&" kr")) -> … Banken: fyll i utgående banksaldo enligt kontoutdrag högst upp på det här bladet
H21: =IF(OR(GRUNDUPPGIFTER!$H$38<>"",GRUNDUPPGIFTER!$H$40<>""),"Förra året","") | I21: =IF(OR(GRUNDUPPGIFTER!$H$38<>"",GRUNDUPPGIFTER!$H$40<>""),"I år","") | L21: =IF(BOKSLUT!I5="","… Kassan: fyll i utgående handkassa enligt kassaräkning högst upp på det här bladet",IF(ROUND(I54-BOKSLUT!I5,2)=0,"✔ Kassan stämmer med kassaräkningen","✖ Kassan stämmer inte med kassaräkningen – skillnad "&FIXED(I54-BOKSLUT!I5,0)&" kr")) -> … Kassan: fyll i utgående handkassa enligt kassaräkning högst upp på det här bladet
G22: Intäkter | L22: =IF(COUNTIF(Tabell1[SALDO BANK],"<0")+COUNTIF(Tabell1[SALDO KASSA],"<0")+COUNTIF(Tabell1[SALDO PRESENTKORT],"<0")=0,"✔ Inga negativa saldon under året","✖ Negativt saldo under året: "&MID(IF(COUNTIF(Tabell1[SALDO BANK],"<0")>0,", banken (första gången V-nr "&_xlfn.MINIFS(Tabell1[V-NR],Tabell1[SALDO BANK],"<0")&")","")&IF(COUNTIF(Tabell1[SALDO KASSA],"<0")>0,", handkassan (första gången V-nr "&_xlfn.MINIFS(Tabell1[V-NR],Tabell1[SALDO KASSA],"<0")&")","")&IF(COUNTIF(Tabell1[SALDO PRESENTKORT],"<0")>0,", presentkorten (första gången V-nr "&_xlfn.MINIFS(Tabell1[V-NR],Tabell1[SALDO PRESENTKORT],"<0")&")",""),3,400)) -> ✔ Inga negativa saldon under året
G23: Bidrag från Sveriges Elevkårer | I23: {=SUM(SUMIFS(Tabell1[BELOPP],Tabell1[KATEGORI],"Bidrag från Sveriges Elevkårer",Tabell1[INTÄKT/UTGIFT],{"Bankkonto_in","Handkassa_in"}))} -> 0 | L23: =IF(COUNT(GRUNDUPPGIFTER!H44,GRUNDUPPGIFTER!H46,GRUNDUPPGIFTER!H48,GRUNDUPPGIFTER!H50,GRUNDUPPGIFTER!H52)=0,"○ Frivilligt: kontinuitet: fyll i förra årets utgående saldon i GRUNDUPPGIFTER om ni vill använda den",IF(IF(AND(ISNUMBER(GRUNDUPPGIFTER!H44),ROUND(N(GRUNDUPPGIFTER!H23)-GRUNDUPPGIFTER!H44,2)<>0),", banksaldo (skillnad "&FIXED(N(GRUNDUPPGIFTER!H23)-GRUNDUPPGIFTER!H44,0)&" kr)","")&IF(AND(ISNUMBER(GRUNDUPPGIFTER!H46),ROUND(N(GRUNDUPPGIFTER!H25)-GRUNDUPPGIFTER!H46,2)<>0),", handkassa (skillnad "&FIXED(N(GRUNDUPPGIFTER!H25)-GRUNDUPPGIFTER!H46,0)&" kr)","")&IF(AND(ISNUMBER(GRUNDUPPGIFTER!H48),ROUND(N(GRUNDUPPGIFTER!H27)-GRUNDUPPGIFTER!H48,2)<>0),", presentkort (skillnad "&FIXED(N(GRUNDUPPGIFTER!H27)-GRUNDUPPGIFTER!H48,0)&" kr)","")&IF(AND(ISNUMBER(GRUNDUPPGIFTER!H50),ROUND(N(GRUNDUPPGIFTER!H29)-GRUNDUPPGIFTER!H50,2)<>0),", övriga tillgångar (skillnad "&FIXED(N(GRUNDUPPGIFTER!H29)-GRUNDUPPGIFTER!H50,0)&" kr)","")&IF(AND(ISNUMBER(GRUNDUPPGIFTER!H52),ROUND(N(GRUNDUPPGIFTER!H31)-GRUNDUPPGIFTER!H52,2)<>0),", skulder (skillnad "&FIXED(N(GRUNDUPPGIFTER!H31)-GRUNDUPPGIFTER!H52,0)&" kr)","")="","✔ Frivillig kontroll – ingående saldon stämmer med förra årets utgående saldon","✖ Frivillig kontroll – stämmer inte med förra årets utgående saldon: "&MID(IF(AND(ISNUMBER(GRUNDUPPGIFTER!H44),ROUND(N(GRUNDUPPGIFTER!H23)-GRUNDUPPGIFTER!H44,2)<>0),", banksaldo (skillnad "&FIXED(N(GRUNDUPPGIFTER!H23)-GRUNDUPPGIFTER!H44,0)&" kr)","")&IF(AND(ISNUMBER(GRUNDUPPGIFTER!H46),ROUND(N(GRUNDUPPGIFTER!H25)-GRUNDUPPGIFTER!H46,2)<>0),", handkassa (skillnad "&FIXED(N(GRUNDUPPGIFTER!H25)-GRUNDUPPGIFTER!H46,0)&" kr)","")&IF(AND(ISNUMBER(GRUNDUPPGIFTER!H48),ROUND(N(GRUNDUPPGIFTER!H27)-GRUNDUPPGIFTER!H48,2)<>0),", presentkort (skillnad "&FIXED(N(GRUNDUPPGIFTER!H27)-GRUNDUPPGIFTER!H48,0)&" kr)","")&IF(AND(ISNUMBER(GRUNDUPPGIFTER!H50),ROUND(N(GRUNDUPPGIFTER!H29)-GRUNDUPPGIFTER!H50,2)<>0),", övriga tillgångar (skillnad "&FIXED(N(GRUNDUPPGIFTER!H29)-GRUNDUPPGIFTER!H50,0)&" kr)","")&IF(AND(ISNUMBER(GRUNDUPPGIFTER!H52),ROUND(N(GRUNDUPPGIFTER!H31)-GRUNDUPPGIFTER!H52,2)<>0),", skulder (skillnad "&FIXED(N(GRUNDUPPGIFTER!H31)-GRUNDUPPGIFTER!H52,0)&" kr)",""),3,400))) -> ○ Frivilligt: kontinuitet: fyll i förra årets utgående saldon i GRUNDUPPGIFTER om ni vill använda den
G24: Bidrag från skolan | I24: {=SUM(SUMIFS(Tabell1[BELOPP],Tabell1[KATEGORI],"Bidrag från skolan",Tabell1[INTÄKT/UTGIFT],{"Bankkonto_in","Handkassa_in"}))} -> 0 | L24: =IF(TRIM(GRUNDUPPGIFTER!F12&"")<>"","✔ Organisationsnummer finns i GRUNDUPPGIFTER","○ Frivilligt: organisationsnummer saknas – fyll i på GRUNDUPPGIFTER om kåren har ett") -> ○ Frivilligt: organisationsnummer saknas – fyll i på GRUNDUPPGIFTER om kåren har ett
G25: Bidrag från kommun/region | I25: {=SUM(SUMIFS(Tabell1[BELOPP],Tabell1[KATEGORI],"Bidrag från kommun/region",Tabell1[INTÄKT/UTGIFT],{"Bankkonto_in","Handkassa_in"}))} -> 0 | L25: =IF(OR(AND(BOKSLUT!I6="",N(GRUNDUPPGIFTER!H29)<>0),AND(BOKSLUT!I7="",N(GRUNDUPPGIFTER!H31)<>0)),"… "&IF(AND(BOKSLUT!I6="",N(GRUNDUPPGIFTER!H29)<>0),"Övriga tillgångar","")&IF(AND(AND(BOKSLUT!I6="",N(GRUNDUPPGIFTER!H29)<>0),AND(BOKSLUT!I7="",N(GRUNDUPPGIFTER!H31)<>0))," och skulder",IF(AND(BOKSLUT!I7="",N(GRUNDUPPGIFTER!H31)<>0),"Skulder",""))&": fanns förra året – fyll i utgående värde högst upp (0 om inget finns kvar)","✔ Övriga tillgångar och skulder är ifyllda") -> ✔ Övriga tillgångar och skulder är ifyllda
G26: Övriga bidrag | I26: {=SUM(SUMIFS(Tabell1[BELOPP],Tabell1[KATEGORI],"Övriga bidrag",Tabell1[INTÄKT/UTGIFT],{"Bankkonto_in","Handkassa_in"}))} -> 0 | L26: BOKFÖRINGEN
G27: Medlemsavgifter | I27: {=SUM(SUMIFS(Tabell1[BELOPP],Tabell1[KATEGORI],"Medlemsavgift",Tabell1[INTÄKT/UTGIFT],{"Bankkonto_in","Handkassa_in"}))} -> 0 | L27: =IF(COUNTIFS(Tabell1[INTÄKT/UTGIFT],"<>",Tabell1[STATUS],"<>KLAR")=0,"✔ Alla rader i BOKFÖRING är KLAR","✖ "&COUNTIFS(Tabell1[INTÄKT/UTGIFT],"<>",Tabell1[STATUS],"<>KLAR")&" rad(er) i BOKFÖRING är inte KLAR: "&MID(IF(COUNTIF(Tabell1[STATUS],"FEL*")>0,", "&COUNTIF(Tabell1[STATUS],"FEL*")&" med FEL","")&IF(COUNTIF(Tabell1[STATUS],"Lägg in kvittot!")>0,", "&COUNTIF(Tabell1[STATUS],"Lägg in kvittot!")&" saknar kvitto","")&IF(COUNTIF(Tabell1[STATUS],"Fyll i*")>0,", "&COUNTIF(Tabell1[STATUS],"Fyll i*")&" ofullständiga",""),3,300)&IF(_xlfn.MINIFS(Tabell1[V-NR],Tabell1[INTÄKT/UTGIFT],"<>",Tabell1[STATUS],"<>KLAR")>0," – första: V-nr "&_xlfn.MINIFS(Tabell1[V-NR],Tabell1[INTÄKT/UTGIFT],"<>",Tabell1[STATUS],"<>KLAR"),"")) -> ✔ Alla rader i BOKFÖRING är KLAR
G28: Bildning | I28: {=SUM(SUMIFS(Tabell1[BELOPP],Tabell1[KATEGORI],"Bildning",Tabell1[INTÄKT/UTGIFT],{"Bankkonto_in","Handkassa_in"}))} -> 0 | L28: =IF(_xlfn.MAXIFS(Tabell1[V-NR],Tabell1[INTÄKT/UTGIFT],"<>")=0,"… V-nr: inga bokförda rader ännu",IF(AND(MAX(0,_xlfn.MAXIFS(Tabell1[V-NR],Tabell1[INTÄKT/UTGIFT],"<>")-COUNTIFS(Tabell1[INTÄKT/UTGIFT],"<>",Tabell1[V-NR],"<>"))=0,COUNTIFS(Tabell1[INTÄKT/UTGIFT],"<>",Tabell1[V-NR],"")=0),"✔ Inga luckor i V-nr (1–"&_xlfn.MAXIFS(Tabell1[V-NR],Tabell1[INTÄKT/UTGIFT],"<>")&")","✖ "&MID(IF(MAX(0,_xlfn.MAXIFS(Tabell1[V-NR],Tabell1[INTÄKT/UTGIFT],"<>")-COUNTIFS(Tabell1[INTÄKT/UTGIFT],"<>",Tabell1[V-NR],"<>"))>0,", "&MAX(0,_xlfn.MAXIFS(Tabell1[V-NR],Tabell1[INTÄKT/UTGIFT],"<>")-COUNTIFS(Tabell1[INTÄKT/UTGIFT],"<>",Tabell1[V-NR],"<>"))&" lucka/luckor i V-nr"&IF(_xlfn.MINIFS(Tabell1[V-NR],Tabell1[INTÄKT/UTGIFT],"",Tabell1[V-NR],"<"&_xlfn.MAXIFS(Tabell1[V-NR],Tabell1[INTÄKT/UTGIFT],"<>"))>0," – första: V-nr "&_xlfn.MINIFS(Tabell1[V-NR],Tabell1[INTÄKT/UTGIFT],"",Tabell1[V-NR],"<"&_xlfn.MAXIFS(Tabell1[V-NR],Tabell1[INTÄKT/UTGIFT],"<>")),""),"")&IF(COUNTIFS(Tabell1[INTÄKT/UTGIFT],"<>",Tabell1[V-NR],"")>0,", "&COUNTIFS(Tabell1[INTÄKT/UTGIFT],"<>",Tabell1[V-NR],"")&" rad(er) utan V-nr",""),3,300))) -> … V-nr: inga bokförda rader ännu
G29: Event | I29: {=SUM(SUMIFS(Tabell1[BELOPP],Tabell1[KATEGORI],"Event",Tabell1[INTÄKT/UTGIFT],{"Bankkonto_in","Handkassa_in"}))} -> 0 | L29: EBAS
G30: Lobbying | I30: {=SUM(SUMIFS(Tabell1[BELOPP],Tabell1[KATEGORI],"Lobbying",Tabell1[INTÄKT/UTGIFT],{"Bankkonto_in","Handkassa_in"}))} -> 0 | L30: =IF(AND(GRUNDUPPGIFTER!F10<>"",'Behind the scenes (RÖR EJ)'!K3<>"",'Behind the scenes (RÖR EJ)'!K4<>"",ROUND(I57-I67,2)=0),"✔ Uppfyller kraven för eBas","✖ Uppfyller inte minimikraven för eBas – saknas: "&IF(GRUNDUPPGIFTER!F10="","elevkårens namn ","")&IF(OR('Behind the scenes (RÖR EJ)'!K3="",'Behind the scenes (RÖR EJ)'!K4=""),"räkenskapsår ","")&IF(ROUND(I57-I67,2)<>0,"balansräkning som går ihop","")) -> ✖ Uppfyller inte minimikraven för eBas – saknas: elevkårens namn räkenskapsår
G31: Service | I31: {=SUM(SUMIFS(Tabell1[BELOPP],Tabell1[KATEGORI],"Service",Tabell1[INTÄKT/UTGIFT],{"Bankkonto_in","Handkassa_in"}))} -> 0 | L31: =IF(I57>M32,"⚠ Er elevkårs tillgångar innebär att ni har högre lagkrav på bokföringen. Kontakta bidrag@sverigeselevkarer.se för att få mer info och hjälp!","")
G32: Övrigt | I32: {=SUM(SUMIFS(Tabell1[BELOPP],Tabell1[KATEGORI],{"Övrigt";"Presentkort"},Tabell1[INTÄKT/UTGIFT],{"Bankkonto_in","Handkassa_in"}))} -> 0 | L32: Gräns för lagstadgad bokföringsskyldighet (tillgångar) | M32: 1500000
G33: Förändring av övriga tillgångar | I33: =BOKSLUT!I6-GRUNDUPPGIFTER!H29 -> 0
G34: Summa intäkter | H34: =IF(OR(GRUNDUPPGIFTER!$H$38<>"",GRUNDUPPGIFTER!$H$40<>""),GRUNDUPPGIFTER!H38,"") | I34: =SUM(I23:I33) -> 0
G36: Kostnader
G37: Bidrag till föreningar | I37: {=SUM(SUMIFS(Tabell1[BELOPP],Tabell1[KATEGORI],"Bidrag till föreningar",Tabell1[INTÄKT/UTGIFT],{"Bankkonto_ut","Handkassa_ut"}))} -> 0
G38: Bildning | I38: {=SUM(SUMIFS(Tabell1[BELOPP],Tabell1[KATEGORI],"Bildning",Tabell1[INTÄKT/UTGIFT],{"Bankkonto_ut","Handkassa_ut"}))} -> 0
G39: Event | I39: {=SUM(SUMIFS(Tabell1[BELOPP],Tabell1[KATEGORI],"Event",Tabell1[INTÄKT/UTGIFT],{"Bankkonto_ut","Handkassa_ut"}))} -> 0
G40: Kårrum | I40: {=SUM(SUMIFS(Tabell1[BELOPP],Tabell1[KATEGORI],"Kårrum",Tabell1[INTÄKT/UTGIFT],{"Bankkonto_ut","Handkassa_ut"}))} -> 0
G41: Lobbying | I41: {=SUM(SUMIFS(Tabell1[BELOPP],Tabell1[KATEGORI],"Lobbying",Tabell1[INTÄKT/UTGIFT],{"Bankkonto_ut","Handkassa_ut"}))} -> 0
G42: Resor | I42: {=SUM(SUMIFS(Tabell1[BELOPP],Tabell1[KATEGORI],"Resor",Tabell1[INTÄKT/UTGIFT],{"Bankkonto_ut","Handkassa_ut"}))} -> 0
G43: Service | I43: {=SUM(SUMIFS(Tabell1[BELOPP],Tabell1[KATEGORI],"Service",Tabell1[INTÄKT/UTGIFT],{"Bankkonto_ut","Handkassa_ut"}))} -> 0
G44: Övrigt | I44: {=SUM(SUMIFS(Tabell1[BELOPP],Tabell1[KATEGORI],{"Övrigt";"Presentkort"},Tabell1[INTÄKT/UTGIFT],{"Bankkonto_ut","Handkassa_ut"}))} -> 0
G45: Förändring av skulder | I45: =BOKSLUT!I7-GRUNDUPPGIFTER!H31 -> 0
G46: Summa kostnader | H46: =IF(OR(GRUNDUPPGIFTER!$H$38<>"",GRUNDUPPGIFTER!$H$40<>""),GRUNDUPPGIFTER!H40,"") | I46: =SUM(I37:I45) -> 0
G47: =IF(I47<0,"Årets resultat (underskott)","Årets resultat (överskott)") -> Årets resultat (överskott) | H47: =IF(OR(GRUNDUPPGIFTER!$H$38<>"",GRUNDUPPGIFTER!$H$40<>""),GRUNDUPPGIFTER!H38-GRUNDUPPGIFTER!H40,"") | I47: =I34-I46 -> 0
G49: BALANSRÄKNING
G50: =IF('Behind the scenes (RÖR EJ)'!K6="","","per "&'Behind the scenes (RÖR EJ)'!K6)
G52: Tillgångar
G53: Bankkonto | I53: =GRUNDUPPGIFTER!H23+SUMIFS(Tabell1[BELOPP],Tabell1[INTÄKT/UTGIFT],"Bankkonto_in")-SUMIFS(Tabell1[BELOPP],Tabell1[INTÄKT/UTGIFT],"Bankkonto_ut")+SUMIFS(Tabell1[BELOPP],Tabell1[INTÄKT/UTGIFT],"Insättning")-SUMIFS(Tabell1[BELOPP],Tabell1[INTÄKT/UTGIFT],"Uttag") -> 0
G54: Handkassa | I54: =GRUNDUPPGIFTER!H25+(SUMIFS(Tabell1[BELOPP],Tabell1[INTÄKT/UTGIFT],"Handkassa_in")-SUMIFS(Tabell1[BELOPP],Tabell1[INTÄKT/UTGIFT],"Handkassa_in",Tabell1[KATEGORI],"Presentkort"))-(SUMIFS(Tabell1[BELOPP],Tabell1[INTÄKT/UTGIFT],"Handkassa_ut")-SUMIFS(Tabell1[BELOPP],Tabell1[INTÄKT/UTGIFT],"Handkassa_ut",Tabell1[KATEGORI],"Presentkort"))+SUMIFS(Tabell1[BELOPP],Tabell1[INTÄKT/UTGIFT],"Uttag")-SUMIFS(Tabell1[BELOPP],Tabell1[INTÄKT/UTGIFT],"Insättning") -> 0
G55: Presentkort (outnyttjat saldo) | I55: =GRUNDUPPGIFTER!H27+SUMIFS(Tabell1[BELOPP],Tabell1[INTÄKT/UTGIFT],"Handkassa_in",Tabell1[KATEGORI],"Presentkort")-SUMIFS(Tabell1[BELOPP],Tabell1[INTÄKT/UTGIFT],"Handkassa_ut",Tabell1[KATEGORI],"Presentkort") -> 0
G56: Övriga tillgångar | I56: =BOKSLUT!I6 -> 0
G57: Summa tillgångar | I57: =SUM(I53:I56) -> 0
G59: Eget kapital
G60: Ingående eget kapital | I60: =GRUNDUPPGIFTER!H23+GRUNDUPPGIFTER!H25+GRUNDUPPGIFTER!H27+GRUNDUPPGIFTER!H29-GRUNDUPPGIFTER!H31 -> 0
G61: Årets resultat | I61: =I47 -> 0
G62: Summa eget kapital | I62: =SUM(I60:I61) -> 0
G64: Skulder
G65: Skulder | I65: =BOKSLUT!I7 -> 0
G66: Summa skulder | I66: =I65 -> 0
G67: Summa eget kapital och skulder | I67: =I62+I66 -> 0
G69: Skriftlig beskrivning | L69: Den skriftliga beskrivningen är frivillig och krävs inte i eBas, men den ökar transparensen – medlemmar, skolan och bidragsgivare ser vad pengarna gått till och varför. Den hjälper också kommande styrelser att se vad som fungerat, vad saker kostat och om pengar redan är bestämda till något. Skriv enkelt med egna ord i de vita rutorna till vänster. Hjälptexterna här till höger skrivs inte ut.
G70: =IF(GRUNDUPPGIFTER!F10="","",GRUNDUPPGIFTER!F10&" – räkenskapsår "&'Behind the scenes (RÖR EJ)'!K5)
G71: 1. Räkenskapsåret
L72: {=IF('Behind the scenes (RÖR EJ)'!K3="","AUTO: Fyll i räkenskapsår i GRUNDUPPGIFTER","AUTO: Räkenskapsåret sträcker sig från "&DAY('Behind the scenes (RÖR EJ)'!K3)&" "&INDEX({"januari","februari","mars","april","maj","juni","juli","augusti","september","oktober","november","december"},MONTH('Behind the scenes (RÖR EJ)'!K3))&" "&YEAR('Behind the scenes (RÖR EJ)'!K3)&" till "&DAY('Behind the scenes (RÖR EJ)'!K4)&" "&INDEX({"januari","februari","mars","april","maj","juni","juli","augusti","september","oktober","november","december"},MONTH('Behind the scenes (RÖR EJ)'!K4))&" "&YEAR('Behind the scenes (RÖR EJ)'!K4)&".")} -> AUTO: Fyll i räkenskapsår i GRUNDUPPGIFTER
L73: Hur har året varit? Beskriv kort hur året har varit för kåren. Har ni haft många aktiviteter, fler eller färre medlemmar, något som stack ut? Exempel: "Det har varit ett aktivt år för kåren med flera aktiviteter för våra medlemmar."
L74: =IF(G73="","Max 600 tecken / 7 rader",IF((ROUNDUP(LEN(G73)/85,0)+LEN(G73)-LEN(SUBSTITUTE(G73,CHAR(10),"")))>7,"✖ För lång – ca "&(ROUNDUP(LEN(G73)/85,0)+LEN(G73)-LEN(SUBSTITUTE(G73,CHAR(10),"")))&" av 7 rader. Korta ner, annars klipps texten vid utskrift.","✔ "&LEN(G73)&" av 600 tecken, ca "&(ROUNDUP(LEN(G73)/85,0)+LEN(G73)-LEN(SUBSTITUTE(G73,CHAR(10),"")))&" av 7 rader")) -> Max 600 tecken / 7 rader
G75: 2. Intäkter
L76: ="AUTO: Totala intäkter blev "&FIXED(I34,0)&" kr." -> AUTO: Totala intäkter blev 0 kr.
L77: Vilka pengar har kåren fått in? Skriv varifrån pengarna kom och hur mycket, till exempel medlemsbidrag, bidrag från skolan, medlemsavgifter eller försäljning. Berätta gärna vad beloppet bygger på, till exempel antal medlemmar. Exempel: "Vi har fått in 3 000 kr i medlemsbidrag från Sveriges Elevkårer baserat på våra 60 medlemmar och 2 000 kr i bidrag från skolan till vår kårverksamhet."
L78: =IF(G77="","Max 600 tecken / 7 rader",IF((ROUNDUP(LEN(G77)/85,0)+LEN(G77)-LEN(SUBSTITUTE(G77,CHAR(10),"")))>7,"✖ För lång – ca "&(ROUNDUP(LEN(G77)/85,0)+LEN(G77)-LEN(SUBSTITUTE(G77,CHAR(10),"")))&" av 7 rader. Korta ner, annars klipps texten vid utskrift.","✔ "&LEN(G77)&" av 600 tecken, ca "&(ROUNDUP(LEN(G77)/85,0)+LEN(G77)-LEN(SUBSTITUTE(G77,CHAR(10),"")))&" av 7 rader")) -> Max 600 tecken / 7 rader
G79: 3. Kostnader
L80: ="AUTO: Totala kostnader blev "&FIXED(I46,0)&" kr, vilket ger ett "&IF(I47<0,"underskott","överskott")&" på "&FIXED(ABS(I47),0)&" kr för året." -> AUTO: Totala kostnader blev 0 kr, vilket ger ett överskott på 0 kr för året.
L81: Vad har pengarna använts till? Skriv vilka aktiviteter pengarna har gått till och ungefär vad varje aktivitet kostade. Berätta också vad bidragen har använts till – särskilt medlemsbidraget från Sveriges Elevkårer och bidrag från skolan eller kommunen. Det är det bidragsgivarna vill veta. Exempel: "Pengarna har använts till fika och material på våra tre kårmöten (1 200 kr) samt till en filmkväll för alla elever på skolan (2 000 kr). Medlemsbidraget från Sveriges Elevkårer gick till kårmötena och filmkvällen, och skolans bidrag täckte resten av filmkvällen."
L82: =IF(G81="","Max 600 tecken / 7 rader",IF((ROUNDUP(LEN(G81)/85,0)+LEN(G81)-LEN(SUBSTITUTE(G81,CHAR(10),"")))>7,"✖ För lång – ca "&(ROUNDUP(LEN(G81)/85,0)+LEN(G81)-LEN(SUBSTITUTE(G81,CHAR(10),"")))&" av 7 rader. Korta ner, annars klipps texten vid utskrift.","✔ "&LEN(G81)&" av 600 tecken, ca "&(ROUNDUP(LEN(G81)/85,0)+LEN(G81)-LEN(SUBSTITUTE(G81,CHAR(10),"")))&" av 7 rader")) -> Max 600 tecken / 7 rader
G83: 4. Jämfört med förra året
L84: =IF(NOT(OR(GRUNDUPPGIFTER!$H$38<>"",GRUNDUPPGIFTER!$H$40<>"")),"AUTO: Fyll i förra årets intäkter och kostnader i GRUNDUPPGIFTER för en automatisk jämförelse","AUTO: Förra året blev resultatet "&FIXED(H47,0)&" kr och i år blev det "&FIXED(I47,0)&" kr – "&IF(I47>=H47,"en förbättring","en försämring")&" med "&FIXED(ABS(I47-H47),0)&" kr.") -> AUTO: Fyll i förra årets intäkter och kostnader i GRUNDUPPGIFTER för en automatisk jämförelse
L85: Gick det bättre eller sämre än förra året? Vad var den största skillnaden, och varför? Exempel: "Jämfört med förra året, då vi gick back med 500 kr, har vi vänt till ett plus – främst tack vare bidraget från skolan som vi inte fick förra året."
L86: =IF(G85="","Max 600 tecken / 7 rader",IF((ROUNDUP(LEN(G85)/85,0)+LEN(G85)-LEN(SUBSTITUTE(G85,CHAR(10),"")))>7,"✖ För lång – ca "&(ROUNDUP(LEN(G85)/85,0)+LEN(G85)-LEN(SUBSTITUTE(G85,CHAR(10),"")))&" av 7 rader. Korta ner, annars klipps texten vid utskrift.","✔ "&LEN(G85)&" av 600 tecken, ca "&(ROUNDUP(LEN(G85)/85,0)+LEN(G85)-LEN(SUBSTITUTE(G85,CHAR(10),"")))&" av 7 rader")) -> Max 600 tecken / 7 rader
G87: 5. Pengar som finns kvar
L88: {=IF('Behind the scenes (RÖR EJ)'!K4="","AUTO: Kåren har "&FIXED(I53+I54,0)&" kr kvar vid årets slut.","AUTO: Kåren har "&FIXED(I53+I54,0)&" kr kvar per "&DAY('Behind the scenes (RÖR EJ)'!K4)&" "&INDEX({"januari","februari","mars","april","maj","juni","juli","augusti","september","oktober","november","december"},MONTH('Behind the scenes (RÖR EJ)'!K4))&" "&YEAR('Behind the scenes (RÖR EJ)'!K4)&".")} -> AUTO: Kåren har 0 kr kvar vid årets slut.
L89: Är någon del av pengarna redan bestämd till något (öronmärkt)? Vad lämnas över till nästa styrelse? Exempel: "Av de 1 800 kr vi har kvar på kontot är 800 kr redan öronmärkta för vårresan i maj. Resterande 1 000 kr lämnas i förtroende till nästa styrelse att använda till kommande aktiviteter."
L90: =IF(G89="","Max 600 tecken / 7 rader",IF((ROUNDUP(LEN(G89)/85,0)+LEN(G89)-LEN(SUBSTITUTE(G89,CHAR(10),"")))>7,"✖ För lång – ca "&(ROUNDUP(LEN(G89)/85,0)+LEN(G89)-LEN(SUBSTITUTE(G89,CHAR(10),"")))&" av 7 rader. Korta ner, annars klipps texten vid utskrift.","✔ "&LEN(G89)&" av 600 tecken, ca "&(ROUNDUP(LEN(G89)/85,0)+LEN(G89)-LEN(SUBSTITUTE(G89,CHAR(10),"")))&" av 7 rader")) -> Max 600 tecken / 7 rader
G92: =IF(GRUNDUPPGIFTER!F16="","",GRUNDUPPGIFTER!F16) | H92: Ekonomiansvarig
G93: Namn | H93: Titel
G95: =IF(GRUNDUPPGIFTER!F10="","",GRUNDUPPGIFTER!F10)
G96: Elevkår | H96: Ort och datum
G100: Signatur

Sheet STATISTIK
E2: ÖVERSIKT & STATISTIK | U2: INTÄKTER
U3: Bidrag (skola, kommun m.fl.) | V3: =BOKSLUT!I24+BOKSLUT!I25+BOKSLUT!I26 -> 0
U4: Bidrag från Sveriges Elevkårer | V4: =BOKSLUT!I23 -> 0
U5: Bildning | V5: =BOKSLUT!I28 -> 0
U6: Event | V6: =BOKSLUT!I29 -> 0
U7: Lobbying | V7: =BOKSLUT!I30 -> 0
F8: RESULTAT | M8: SALDO | U8: Medlemsavgift | V8: =BOKSLUT!I27 -> 0
F9: ="Intäkter: "&FIXED(BOKSLUT!I34,0)&" kr" -> Intäkter: 0 kr | M9: ="Bankkonto: "&FIXED(BOKSLUT!I53,0)&" kr" -> Bankkonto: 0 kr | U9: Service | V9: =BOKSLUT!I31 -> 0
F10: ="Utgifter: "&FIXED(BOKSLUT!I46,0)&" kr" -> Utgifter: 0 kr | M10: ="Handkassa: "&FIXED(BOKSLUT!I54,0)&" kr" -> Handkassa: 0 kr | U10: Övrigt | V10: =BOKSLUT!I32 -> 0
F11: ="Resultat: "&FIXED(BOKSLUT!I47,0)&" kr" -> Resultat: 0 kr | M11: ="Summa: "&FIXED(BOKSLUT!I53+BOKSLUT!I54,0)&" kr" -> Summa: 0 kr | U11: Förändring övr. tillgångar | V11: =BOKSLUT!I33 -> 0
U12: SUMMA: | V12: =SUM(V3:V11) -> 0
U13: UTGIFTER
U14: Bidrag till föreningar | V14: =BOKSLUT!I37 -> 0
U15: Bildning | V15: =BOKSLUT!I38 -> 0
U16: Event | V16: =BOKSLUT!I39 -> 0
U17: Kårrum | V17: =BOKSLUT!I40 -> 0
U18: Lobbying | V18: =BOKSLUT!I41 -> 0
U19: Resor | V19: =BOKSLUT!I42 -> 0
U20: Service | V20: =BOKSLUT!I43 -> 0
U21: Övrigt | V21: =BOKSLUT!I44 -> 0
U22: Förändring av skulder | V22: =BOKSLUT!I45 -> 0
U23: SUMMA: | V23: =SUM(V14:V22) -> 0
U24: Månad | V24: Intäkter | W24: Månadsstart (hjälp)
U25: {=INDEX({"Januari","Februari","Mars","April","Maj","Juni","Juli","Augusti","September","Oktober","November","December"},MONTH(W25))} -> Januari | V25: =SUMIFS(Tabell1[BELOPP],Tabell1[INTÄKT/UTGIFT],"*_in",Tabell1[DATUM],">="&$W25,Tabell1[DATUM],"<="&EOMONTH($W25,0)) -> 0 | W25: =IF(ISNUMBER('Behind the scenes (RÖR EJ)'!$K$3),DATE(YEAR('Behind the scenes (RÖR EJ)'!$K$3),MONTH('Behind the scenes (RÖR EJ)'!$K$3),1),DATE(YEAR(TODAY()),1,1)) -> 46023
U26: {=INDEX({"Januari","Februari","Mars","April","Maj","Juni","Juli","Augusti","September","Oktober","November","December"},MONTH(W26))} -> Februari | V26: =SUMIFS(Tabell1[BELOPP],Tabell1[INTÄKT/UTGIFT],"*_in",Tabell1[DATUM],">="&$W26,Tabell1[DATUM],"<="&EOMONTH($W26,0)) -> 0 | W26: =EDATE(W25,1) -> 46054
U27: {=INDEX({"Januari","Februari","Mars","April","Maj","Juni","Juli","Augusti","September","Oktober","November","December"},MONTH(W27))} -> Mars | V27: =SUMIFS(Tabell1[BELOPP],Tabell1[INTÄKT/UTGIFT],"*_in",Tabell1[DATUM],">="&$W27,Tabell1[DATUM],"<="&EOMONTH($W27,0)) -> 0 | W27: =EDATE(W26,1) -> 46082
U28: {=INDEX({"Januari","Februari","Mars","April","Maj","Juni","Juli","Augusti","September","Oktober","November","December"},MONTH(W28))} -> April | V28: =SUMIFS(Tabell1[BELOPP],Tabell1[INTÄKT/UTGIFT],"*_in",Tabell1[DATUM],">="&$W28,Tabell1[DATUM],"<="&EOMONTH($W28,0)) -> 0 | W28: =EDATE(W27,1) -> 46113
U29: {=INDEX({"Januari","Februari","Mars","April","Maj","Juni","Juli","Augusti","September","Oktober","November","December"},MONTH(W29))} -> Maj | V29: =SUMIFS(Tabell1[BELOPP],Tabell1[INTÄKT/UTGIFT],"*_in",Tabell1[DATUM],">="&$W29,Tabell1[DATUM],"<="&EOMONTH($W29,0)) -> 0 | W29: =EDATE(W28,1) -> 46143
U30: {=INDEX({"Januari","Februari","Mars","April","Maj","Juni","Juli","Augusti","September","Oktober","November","December"},MONTH(W30))} -> Juni | V30: =SUMIFS(Tabell1[BELOPP],Tabell1[INTÄKT/UTGIFT],"*_in",Tabell1[DATUM],">="&$W30,Tabell1[DATUM],"<="&EOMONTH($W30,0)) -> 0 | W30: =EDATE(W29,1) -> 46174
U31: {=INDEX({"Januari","Februari","Mars","April","Maj","Juni","Juli","Augusti","September","Oktober","November","December"},MONTH(W31))} -> Juli | V31: =SUMIFS(Tabell1[BELOPP],Tabell1[INTÄKT/UTGIFT],"*_in",Tabell1[DATUM],">="&$W31,Tabell1[DATUM],"<="&EOMONTH($W31,0)) -> 0 | W31: =EDATE(W30,1) -> 46204
U32: {=INDEX({"Januari","Februari","Mars","April","Maj","Juni","Juli","Augusti","September","Oktober","November","December"},MONTH(W32))} -> Augusti | V32: =SUMIFS(Tabell1[BELOPP],Tabell1[INTÄKT/UTGIFT],"*_in",Tabell1[DATUM],">="&$W32,Tabell1[DATUM],"<="&EOMONTH($W32,0)) -> 0 | W32: =EDATE(W31,1) -> 46235
U33: {=INDEX({"Januari","Februari","Mars","April","Maj","Juni","Juli","Augusti","September","Oktober","November","December"},MONTH(W33))} -> September | V33: =SUMIFS(Tabell1[BELOPP],Tabell1[INTÄKT/UTGIFT],"*_in",Tabell1[DATUM],">="&$W33,Tabell1[DATUM],"<="&EOMONTH($W33,0)) -> 0 | W33: =EDATE(W32,1) -> 46266
U34: {=INDEX({"Januari","Februari","Mars","April","Maj","Juni","Juli","Augusti","September","Oktober","November","December"},MONTH(W34))} -> Oktober | V34: =SUMIFS(Tabell1[BELOPP],Tabell1[INTÄKT/UTGIFT],"*_in",Tabell1[DATUM],">="&$W34,Tabell1[DATUM],"<="&EOMONTH($W34,0)) -> 0 | W34: =EDATE(W33,1) -> 46296
U35: {=INDEX({"Januari","Februari","Mars","April","Maj","Juni","Juli","Augusti","September","Oktober","November","December"},MONTH(W35))} -> November | V35: =SUMIFS(Tabell1[BELOPP],Tabell1[INTÄKT/UTGIFT],"*_in",Tabell1[DATUM],">="&$W35,Tabell1[DATUM],"<="&EOMONTH($W35,0)) -> 0 | W35: =EDATE(W34,1) -> 46327
U36: {=INDEX({"Januari","Februari","Mars","April","Maj","Juni","Juli","Augusti","September","Oktober","November","December"},MONTH(W36))} -> December | V36: =SUMIFS(Tabell1[BELOPP],Tabell1[INTÄKT/UTGIFT],"*_in",Tabell1[DATUM],">="&$W36,Tabell1[DATUM],"<="&EOMONTH($W36,0)) -> 0 | W36: =EDATE(W35,1) -> 46357
U38: Månad | V38: Utgifter
U39: =U25 -> Januari | V39: =SUMIFS(Tabell1[BELOPP],Tabell1[INTÄKT/UTGIFT],"*_ut",Tabell1[DATUM],">="&$W25,Tabell1[DATUM],"<="&EOMONTH($W25,0)) -> 0
U40: =U26 -> Februari | V40: =SUMIFS(Tabell1[BELOPP],Tabell1[INTÄKT/UTGIFT],"*_ut",Tabell1[DATUM],">="&$W26,Tabell1[DATUM],"<="&EOMONTH($W26,0)) -> 0
U41: =U27 -> Mars | V41: =SUMIFS(Tabell1[BELOPP],Tabell1[INTÄKT/UTGIFT],"*_ut",Tabell1[DATUM],">="&$W27,Tabell1[DATUM],"<="&EOMONTH($W27,0)) -> 0
U42: =U28 -> April | V42: =SUMIFS(Tabell1[BELOPP],Tabell1[INTÄKT/UTGIFT],"*_ut",Tabell1[DATUM],">="&$W28,Tabell1[DATUM],"<="&EOMONTH($W28,0)) -> 0
U43: =U29 -> Maj | V43: =SUMIFS(Tabell1[BELOPP],Tabell1[INTÄKT/UTGIFT],"*_ut",Tabell1[DATUM],">="&$W29,Tabell1[DATUM],"<="&EOMONTH($W29,0)) -> 0
U44: =U30 -> Juni | V44: =SUMIFS(Tabell1[BELOPP],Tabell1[INTÄKT/UTGIFT],"*_ut",Tabell1[DATUM],">="&$W30,Tabell1[DATUM],"<="&EOMONTH($W30,0)) -> 0
U45: =U31 -> Juli | V45: =SUMIFS(Tabell1[BELOPP],Tabell1[INTÄKT/UTGIFT],"*_ut",Tabell1[DATUM],">="&$W31,Tabell1[DATUM],"<="&EOMONTH($W31,0)) -> 0
U46: =U32 -> Augusti | V46: =SUMIFS(Tabell1[BELOPP],Tabell1[INTÄKT/UTGIFT],"*_ut",Tabell1[DATUM],">="&$W32,Tabell1[DATUM],"<="&EOMONTH($W32,0)) -> 0
U47: =U33 -> September | V47: =SUMIFS(Tabell1[BELOPP],Tabell1[INTÄKT/UTGIFT],"*_ut",Tabell1[DATUM],">="&$W33,Tabell1[DATUM],"<="&EOMONTH($W33,0)) -> 0
U48: =U34 -> Oktober | V48: =SUMIFS(Tabell1[BELOPP],Tabell1[INTÄKT/UTGIFT],"*_ut",Tabell1[DATUM],">="&$W34,Tabell1[DATUM],"<="&EOMONTH($W34,0)) -> 0
U49: =U35 -> November | V49: =SUMIFS(Tabell1[BELOPP],Tabell1[INTÄKT/UTGIFT],"*_ut",Tabell1[DATUM],">="&$W35,Tabell1[DATUM],"<="&EOMONTH($W35,0)) -> 0
U50: =U36 -> December | V50: =SUMIFS(Tabell1[BELOPP],Tabell1[INTÄKT/UTGIFT],"*_ut",Tabell1[DATUM],">="&$W36,Tabell1[DATUM],"<="&EOMONTH($W36,0)) -> 0

Sheet Behind the scenes (RÖR EJ)
C2: Bankkonto_in | D2: Bankkonto_ut | E2: Handkassa_in | F2: Handkassa_ut | G2: Insättning | H2: Uttag | J2: RÄKENSKAPSÅR (används av BOKSLUT och BOKFÖRING)
B3: Bankkonto_in | C3: Bidrag från Sveriges Elevkårer | D3: Bidrag till föreningar | E3: Bidrag från Sveriges Elevkårer | F3: Bidrag till föreningar | G3: Insättning till konto | H3: Uttag från konto | J3: Räkenskapsårets start (hämtas från GRUNDUPPGIFTER) | K3: =IF(GRUNDUPPGIFTER!F14="","",IF(ISNUMBER(GRUNDUPPGIFTER!F14),IF(GRUNDUPPGIFTER!F14<3000,DATE(GRUNDUPPGIFTER!F14,1,1),GRUNDUPPGIFTER!F14),IFERROR(DATEVALUE(LEFT(TRIM(GRUNDUPPGIFTER!F14),10)),IFERROR(DATE(VALUE(LEFT(TRIM(GRUNDUPPGIFTER!F14),4)),1,1),""))))
B4: Bankkonto_ut | C4: Bidrag från skolan | D4: Bildning | E4: Bidrag från skolan | F4: Bildning | J4: Räkenskapsårets slut | K4: =IF(K3="","",IFERROR(DATEVALUE(RIGHT(TRIM(GRUNDUPPGIFTER!F14),10)),EDATE(K3,12)-1))
B5: Handkassa_in | C5: Bidrag från kommun/region | D5: Event | E5: Bidrag från kommun/region | F5: Event | J5: Period som text | K5: =IF(K3="",IF(GRUNDUPPGIFTER!F14="","",GRUNDUPPGIFTER!F14&""),YEAR(K3)&"-"&RIGHT("0"&MONTH(K3),2)&"-"&RIGHT("0"&DAY(K3),2)&" – "&YEAR(K4)&"-"&RIGHT("0"&MONTH(K4),2)&"-"&RIGHT("0"&DAY(K4),2))
B6: Handkassa_ut | C6: Övriga bidrag | D6: Kårrum | E6: Övriga bidrag | F6: Kårrum | J6: Bokslutsdag som text | K6: =IF(K4="","",YEAR(K4)&"-"&RIGHT("0"&MONTH(K4),2)&"-"&RIGHT("0"&DAY(K4),2))
B7: Insättning | C7: Medlemsavgift | D7: Lobbying | E7: Medlemsavgift | F7: Lobbying
B8: Uttag | C8: Bildning | D8: Resor | E8: Bildning | F8: Presentkort
C9: Event | D9: Service | E9: Event | F9: Resor
C10: Lobbying | D10: Övrigt | E10: Lobbying | F10: Service
C11: Service | E11: Presentkort | F11: Övrigt
C12: Övrigt | E12: Service
E13: Övrigt
C14: Beskriv_bankkonto_in | D14: Beskriv_bankkonto_ut | E14: Beskriv_handkassa_in | F14: Beskriv_handkassa_ut | G14: Beskriv_insättning | H14: Beskriv_uttag
B15: Beskriv_bankkonto_in | C15: Bidrag från Sveriges Elevkårer = intäkt i form av det årliga bidraget från Sveriges Elevkårer | D15: Bidrag till föreningar = bidrag som ni betalar ut till kårföreningar | E15: Bidrag från Sveriges Elevkårer = intäkt i form av det årliga bidraget från Sveriges Elevkårer | F15: Bidrag till föreningar = bidrag som ni betalar ut till kårföreningar i kontanter | G15: Insättning till konto = när ni sätter in kontanter på ert bankkonto | H15: Uttag från konto = när ni tar ut kontanter från ert bankkonto
B16: Beskriv_bankkonto_ut | C16: Bidrag från skolan = bidrag som ni får från skolan | D16: Bildning = utgifter från bildningsarrangemang | E16: Bidrag från skolan = bidrag som ni får från skolan, i kontanter | F16: Bildning = utgifter från bildningsarrangemang ni betalar kontant
B17: Beskriv_handkassa_in | C17: Bidrag från kommun/region = bidrag som ni får från kommunen eller regionen | D17: Event = utgifter från event, ex lokalhyra för en fest | E17: Bidrag från kommun/region = bidrag som ni får från kommunen eller regionen, i kontanter | F17: Event = utgifter från event ni betalar kontant, ex lokalhyra för en fest
B18: Beskriv_handkassa_ut | C18: Övriga bidrag = bidrag från andra än Sveriges Elevkårer, skolan eller kommun/region | D18: Kårrum = utgifter kopplade till ev kårrum | E18: Övriga bidrag = bidrag från andra än Sveriges Elevkårer, skolan eller kommun/region, i kontanter | F18: Kårrum = utgifter kopplade till ev kårrum ni betalar kontant
B19: Beskriv_insättning | C19: Medlemsavgift = intäkter från eventuella medlemsavgifter | D19: Lobbying = utgifter från lobbyingverksamhet | E19: Medlemsavgift = intäkter från eventuella medlemsavgifter | F19: Lobbying = utgifter från lobbyingverksamhet ni betalar kontant
B20: Beskriv_uttag | C20: Bildning = intäkter från bildningsarrangemang | D20: Resor = utgifter för resor, ex tågbiljetter | E20: Bildning = intäkter från bildningsarrangemang | F20: Presentkort = samtliga utgifter ni köper med ett presentkort (skriv vilken kateogri i beskrivningen)
C21: Event = intäkter från event, exempelvis biljettförsäljning | D21: Service = utgifter från service, ex inköp av fika | E21: Event = intäkter från event, exempelvis biljettförsäljning | F21: Resor = utgifter för resor ni betalar kontant, ex tågbiljetter
C22: Lobbying = intäkter från lobbyingarrangemang | D22: Övrigt = utgifter som inte passar någon annan kategori, var extra tydlig i beskrivningen!! | E22: Lobbying = intäkter från lobbyingarrangemang | F22: Service = utgifter från service ni betalar kontant, ex inköp av fika
C23: Service = intäkter från service, exempelvis fikaförsäljning | E23: Presentkort = intäkter i form av att ni får presentkort | F23: Övrigt = utgifter ni betalar kontant som inte passar någon annan kategori, var extra tydlig i beskrivningen!!
C24: Övrigt = övriga intäkter | E24: Service = intäkter från service, exempelvis fikaförsäljning
E25: Övrigt = övriga intäkter
B33: Lösen: Kvitto2026!
